BEGIN:VCALENDAR
VERSION:2.0
PRODID:-//Chicagoland MG Club - ECPv6.15.20//NONSGML v1.0//EN
CALSCALE:GREGORIAN
METHOD:PUBLISH
X-WR-CALNAME:Chicagoland MG Club
X-ORIGINAL-URL:https://chicagolandmgclub.com
X-WR-CALDESC:Events for Chicagoland MG Club
REFRESH-INTERVAL;VALUE=DURATION:PT1H
X-Robots-Tag:noindex
X-PUBLISHED-TTL:PT1H
BEGIN:VTIMEZONE
TZID:America/Chicago
BEGIN:DAYLIGHT
TZOFFSETFROM:-0600
TZOFFSETTO:-0500
TZNAME:CDT
DTSTART:20220313T080000
END:DAYLIGHT
BEGIN:STANDARD
TZOFFSETFROM:-0500
TZOFFSETTO:-0600
TZNAME:CST
DTSTART:20221106T070000
END:STANDARD
BEGIN:DAYLIGHT
TZOFFSETFROM:-0600
TZOFFSETTO:-0500
TZNAME:CDT
DTSTART:20230312T080000
END:DAYLIGHT
BEGIN:STANDARD
TZOFFSETFROM:-0500
TZOFFSETTO:-0600
TZNAME:CST
DTSTART:20231105T070000
END:STANDARD
BEGIN:DAYLIGHT
TZOFFSETFROM:-0600
TZOFFSETTO:-0500
TZNAME:CDT
DTSTART:20240310T080000
END:DAYLIGHT
BEGIN:STANDARD
TZOFFSETFROM:-0500
TZOFFSETTO:-0600
TZNAME:CST
DTSTART:20241103T070000
END:STANDARD
END:VTIMEZONE
BEGIN:VEVENT
DTSTART;TZID=America/Chicago:20230422T103000
DTEND;TZID=America/Chicago:20230422T123000
DTSTAMP:20260425T081056
CREATED:20230316T032944Z
LAST-MODIFIED:20230426T192503Z
UID:10000083-1682159400-1682166600@chicagolandmgclub.com
SUMMARY:2023 - Powell Garage Visit\, April 22nd
DESCRIPTION:Come for a visit at our garage and take a step back in time to view Jeff’s collection of vintage gas station and oil companies memorabilia. We also have a few antique bicycles on display.  \nWe are just south of North Ave. and just west of 9th Ave. Street parking available. \nWe will then all take a short drive over to Russell’s BBQ (corner of North Ave. and Thatcher) for lunch around 12-12:30 pm. They have plenty of parking if you want to drive your MG. \nHope to see you then!
URL:https://chicagolandmgclub.com/event/2023-powell-garage-visit-april-22nd/
LOCATION:Powell Garage\, 910 W. Hirsch Street\, Melrose Park\, IL\, 60160
CATEGORIES:Driving Events
ATTACH;FMTTYPE=image/png:https://chicagolandmgclub.com/wp-content/uploads/2023/03/Powell-Garage-Logo-2.png
ORGANIZER;CN="Event Organizer - Jeff & Sharon Powell":MAILTO:cycle@earthlink.net
END:VEVENT
BEGIN:VEVENT
DTSTART;TZID=America/Chicago:20230417T190000
DTEND;TZID=America/Chicago:20230417T210000
DTSTAMP:20260425T081056
CREATED:20240220T211320Z
LAST-MODIFIED:20240220T223227Z
UID:10000165-1681758000-1681765200@chicagolandmgclub.com
SUMMARY:CMCG Monthly Club Meeting
DESCRIPTION:CMGC has regularly scheduled club meetings with presentations relating to the care and feeding of your car\, as well as other auto related topics.Third Monday of each month (except December – no meeting).
URL:https://chicagolandmgclub.com/event/cmcg-monthly-club-meeting-2-3/2023-04-17/
LOCATION:Mr. Beef and Pizza\, 1796 Elmhurst Rd.\, Mt. Prospect\, IL\, 60056\, United States
CATEGORIES:Monthly Club Meeting
ATTACH;FMTTYPE=image/png:https://chicagolandmgclub.com/wp-content/uploads/2022/03/CMGC-Logo-1A.png
END:VEVENT
BEGIN:VEVENT
DTSTART;TZID=America/Chicago:20230320T190000
DTEND;TZID=America/Chicago:20230320T210000
DTSTAMP:20260425T081056
CREATED:20240220T211320Z
LAST-MODIFIED:20240220T223227Z
UID:10000164-1679338800-1679346000@chicagolandmgclub.com
SUMMARY:CMCG Monthly Club Meeting
DESCRIPTION:CMGC has regularly scheduled club meetings with presentations relating to the care and feeding of your car\, as well as other auto related topics.Third Monday of each month (except December – no meeting).
URL:https://chicagolandmgclub.com/event/cmcg-monthly-club-meeting-2-3/2023-03-20/
LOCATION:Mr. Beef and Pizza\, 1796 Elmhurst Rd.\, Mt. Prospect\, IL\, 60056\, United States
CATEGORIES:Monthly Club Meeting
ATTACH;FMTTYPE=image/png:https://chicagolandmgclub.com/wp-content/uploads/2022/03/CMGC-Logo-1A.png
END:VEVENT
BEGIN:VEVENT
DTSTART;TZID=America/Chicago:20230308T180000
DTEND;TZID=America/Chicago:20230308T210000
DTSTAMP:20260425T081056
CREATED:20221204T045641Z
LAST-MODIFIED:20240220T221515Z
UID:10000044-1678298400-1678309200@chicagolandmgclub.com
SUMMARY:Natter'n Noggin - South - March 13th
DESCRIPTION:On the second Wednesday of each ODD month we gather together in a more informal environment for Natter‘n Noggin\, a British term for a pint and a casual conversation. Tom’s heated garage is spacious and there usually some ‘wrench turning’ going on. This offers a great opportunity for a relaxing gathering and a chance to chat with club members about MG’s and other topics. NOTE: Garage is around the side\, NOT attached to the front house.
URL:https://chicagolandmgclub.com/event/natter-n-noggin-south/2023-03-08/
LOCATION:Tom Raddatz Garage\, 1600 W 55th St.\, LaGrange Highlands\, IL\, 60525\, United States
ATTACH;FMTTYPE=image/png:https://chicagolandmgclub.com/wp-content/uploads/2022/03/CLMG-Green-Logo.png
END:VEVENT
BEGIN:VEVENT
DTSTART;TZID=America/Chicago:20230111T180000
DTEND;TZID=America/Chicago:20230111T210000
DTSTAMP:20260425T081056
CREATED:20221204T045641Z
LAST-MODIFIED:20240220T221515Z
UID:10000043-1673460000-1673470800@chicagolandmgclub.com
SUMMARY:Natter'n Noggin - South - March 13th
DESCRIPTION:On the second Wednesday of each ODD month we gather together in a more informal environment for Natter‘n Noggin\, a British term for a pint and a casual conversation. Tom’s heated garage is spacious and there usually some ‘wrench turning’ going on. This offers a great opportunity for a relaxing gathering and a chance to chat with club members about MG’s and other topics. NOTE: Garage is around the side\, NOT attached to the front house.
URL:https://chicagolandmgclub.com/event/natter-n-noggin-south/2023-01-11/
LOCATION:Tom Raddatz Garage\, 1600 W 55th St.\, LaGrange Highlands\, IL\, 60525\, United States
ATTACH;FMTTYPE=image/png:https://chicagolandmgclub.com/wp-content/uploads/2022/03/CLMG-Green-Logo.png
END:VEVENT
END:VCALENDAR