BEGIN:VCALENDAR
VERSION:2.0
PRODID:-//Chicagoland MG Club - ECPv6.15.20//NONSGML v1.0//EN
CALSCALE:GREGORIAN
METHOD:PUBLISH
X-WR-CALNAME:Chicagoland MG Club
X-ORIGINAL-URL:https://chicagolandmgclub.com
X-WR-CALDESC:Events for Chicagoland MG Club
REFRESH-INTERVAL;VALUE=DURATION:PT1H
X-Robots-Tag:noindex
X-PUBLISHED-TTL:PT1H
BEGIN:VTIMEZONE
TZID:America/Chicago
BEGIN:DAYLIGHT
TZOFFSETFROM:-0600
TZOFFSETTO:-0500
TZNAME:CDT
DTSTART:20220313T080000
END:DAYLIGHT
BEGIN:STANDARD
TZOFFSETFROM:-0500
TZOFFSETTO:-0600
TZNAME:CST
DTSTART:20221106T070000
END:STANDARD
BEGIN:DAYLIGHT
TZOFFSETFROM:-0600
TZOFFSETTO:-0500
TZNAME:CDT
DTSTART:20230312T080000
END:DAYLIGHT
BEGIN:STANDARD
TZOFFSETFROM:-0500
TZOFFSETTO:-0600
TZNAME:CST
DTSTART:20231105T070000
END:STANDARD
BEGIN:DAYLIGHT
TZOFFSETFROM:-0600
TZOFFSETTO:-0500
TZNAME:CDT
DTSTART:20240310T080000
END:DAYLIGHT
BEGIN:STANDARD
TZOFFSETFROM:-0500
TZOFFSETTO:-0600
TZNAME:CST
DTSTART:20241103T070000
END:STANDARD
END:VTIMEZONE
BEGIN:VEVENT
DTSTART;TZID=America/Chicago:20230111T180000
DTEND;TZID=America/Chicago:20230111T210000
DTSTAMP:20260424T073435
CREATED:20221204T045641Z
LAST-MODIFIED:20240220T221515Z
UID:10000043-1673460000-1673470800@chicagolandmgclub.com
SUMMARY:Natter'n Noggin - South - March 13th
DESCRIPTION:On the second Wednesday of each ODD month we gather together in a more informal environment for Natter‘n Noggin\, a British term for a pint and a casual conversation. Tom’s heated garage is spacious and there usually some ‘wrench turning’ going on. This offers a great opportunity for a relaxing gathering and a chance to chat with club members about MG’s and other topics. NOTE: Garage is around the side\, NOT attached to the front house.
URL:https://chicagolandmgclub.com/event/natter-n-noggin-south/2023-01-11/
LOCATION:Tom Raddatz Garage\, 1600 W 55th St.\, LaGrange Highlands\, IL\, 60525\, United States
ATTACH;FMTTYPE=image/png:https://chicagolandmgclub.com/wp-content/uploads/2022/03/CLMG-Green-Logo.png
END:VEVENT
END:VCALENDAR