BEGIN:VCALENDAR
VERSION:2.0
PRODID:-//Chicagoland MG Club - ECPv6.15.20//NONSGML v1.0//EN
CALSCALE:GREGORIAN
METHOD:PUBLISH
X-WR-CALNAME:Chicagoland MG Club
X-ORIGINAL-URL:https://chicagolandmgclub.com
X-WR-CALDESC:Events for Chicagoland MG Club
REFRESH-INTERVAL;VALUE=DURATION:PT1H
X-Robots-Tag:noindex
X-PUBLISHED-TTL:PT1H
BEGIN:VTIMEZONE
TZID:America/Chicago
BEGIN:DAYLIGHT
TZOFFSETFROM:-0600
TZOFFSETTO:-0500
TZNAME:CDT
DTSTART:20250309T080000
END:DAYLIGHT
BEGIN:STANDARD
TZOFFSETFROM:-0500
TZOFFSETTO:-0600
TZNAME:CST
DTSTART:20251102T070000
END:STANDARD
BEGIN:DAYLIGHT
TZOFFSETFROM:-0600
TZOFFSETTO:-0500
TZNAME:CDT
DTSTART:20260308T080000
END:DAYLIGHT
BEGIN:STANDARD
TZOFFSETFROM:-0500
TZOFFSETTO:-0600
TZNAME:CST
DTSTART:20261101T070000
END:STANDARD
BEGIN:DAYLIGHT
TZOFFSETFROM:-0600
TZOFFSETTO:-0500
TZNAME:CDT
DTSTART:20270314T080000
END:DAYLIGHT
BEGIN:STANDARD
TZOFFSETFROM:-0500
TZOFFSETTO:-0600
TZNAME:CST
DTSTART:20271107T070000
END:STANDARD
BEGIN:DAYLIGHT
TZOFFSETFROM:-0600
TZOFFSETTO:-0500
TZNAME:CDT
DTSTART:20280312T080000
END:DAYLIGHT
BEGIN:STANDARD
TZOFFSETFROM:-0500
TZOFFSETTO:-0600
TZNAME:CST
DTSTART:20281105T070000
END:STANDARD
BEGIN:DAYLIGHT
TZOFFSETFROM:-0600
TZOFFSETTO:-0500
TZNAME:CDT
DTSTART:20290311T080000
END:DAYLIGHT
BEGIN:STANDARD
TZOFFSETFROM:-0500
TZOFFSETTO:-0600
TZNAME:CST
DTSTART:20291104T070000
END:STANDARD
END:VTIMEZONE
BEGIN:VEVENT
DTSTART;TZID=America/Chicago:20260817T190000
DTEND;TZID=America/Chicago:20260817T210000
DTSTAMP:20260423T152017
CREATED:20250609T150718Z
LAST-MODIFIED:20250702T181923Z
UID:10000212-1786993200-1787000400@chicagolandmgclub.com
SUMMARY:CMCG Monthly Club Meeting
DESCRIPTION:CMGC has regularly scheduled club meetings with presentations relating to the care and feeding of your car\, as well as other auto related topics. Third Monday of each month (except December – no meeting).
URL:https://chicagolandmgclub.com/event/cmcg-monthly-club-meeting/2026-08-17/
LOCATION:Mr. Beef and Pizza\, 1796 Elmhurst Rd.\, Mt. Prospect\, IL\, 60056\, United States
CATEGORIES:Monthly Club Meeting
ATTACH;FMTTYPE=image/png:https://chicagolandmgclub.com/wp-content/uploads/2022/03/CMGC-Logo-1A.png
END:VEVENT
BEGIN:VEVENT
DTSTART;VALUE=DATE:20260823
DTEND;VALUE=DATE:20260828
DTSTAMP:20260423T152017
CREATED:20260301T140035Z
LAST-MODIFIED:20260316T133136Z
UID:10000255-1787443200-1787875199@chicagolandmgclub.com
SUMMARY:2026 - MG International - August 23rd - 27th
DESCRIPTION:MG International 2026 – An All MG Event\nHosted by The North American Council of MG Registers \nShores & Islands\nCedar Point – Sandusky\, OH\nat the Sandusky Kalahari Resort \nAll MG enthusiast are welcomed to attend. \nQuestions? email to: info@mginternational2026.org \n“The Marque of Friendship” website will be live in late 2025 \nwww.mginternational2026.org \nThis is not a Chicagoland MG Club sponsored event.
URL:https://chicagolandmgclub.com/event/2026-mg-international-august-23rd-27th/
LOCATION:KALAHARI RESORTS & CONVENTIONS\, 7000 Kalahari Drive\, Sandusky\, OH\, 44870
CATEGORIES:Special Event
END:VEVENT
BEGIN:VEVENT
DTSTART;TZID=America/Chicago:20260921T190000
DTEND;TZID=America/Chicago:20260921T210000
DTSTAMP:20260423T152017
CREATED:20250609T150718Z
LAST-MODIFIED:20250702T181923Z
UID:10000213-1790017200-1790024400@chicagolandmgclub.com
SUMMARY:CMCG Monthly Club Meeting
DESCRIPTION:CMGC has regularly scheduled club meetings with presentations relating to the care and feeding of your car\, as well as other auto related topics. Third Monday of each month (except December – no meeting).
URL:https://chicagolandmgclub.com/event/cmcg-monthly-club-meeting/2026-09-21/
LOCATION:Mr. Beef and Pizza\, 1796 Elmhurst Rd.\, Mt. Prospect\, IL\, 60056\, United States
CATEGORIES:Monthly Club Meeting
ATTACH;FMTTYPE=image/png:https://chicagolandmgclub.com/wp-content/uploads/2022/03/CMGC-Logo-1A.png
END:VEVENT
BEGIN:VEVENT
DTSTART;TZID=America/Chicago:20261014T190000
DTEND;TZID=America/Chicago:20261014T220000
DTSTAMP:20260423T152017
CREATED:20230925T231850Z
LAST-MODIFIED:20240220T001403Z
UID:10000143-1792004400-1792015200@chicagolandmgclub.com
SUMMARY:Natter'n Noggin - North
DESCRIPTION:On the second Wednesday of each EVEN month we gather together in a more informal environment for Natter‘n Noggin\, a British term for a pint and a casual conversation. This offers a good opportunity for a relaxing gathering and a chance to chat with club members about MG’s and other topics.
URL:https://chicagolandmgclub.com/event/natter-n-noggin-north-2/2026-10-14/
LOCATION:Fox & Hound\, 1416 N Roselle Rd Unit 3032\, Schaumburg\, IL\, 60195\, United States
CATEGORIES:Natter'n Noggin
ATTACH;FMTTYPE=image/png:https://chicagolandmgclub.com/wp-content/uploads/2022/10/CLMGC-Green-logo-Banner.png
END:VEVENT
BEGIN:VEVENT
DTSTART;TZID=America/Chicago:20261019T190000
DTEND;TZID=America/Chicago:20261019T210000
DTSTAMP:20260423T152017
CREATED:20250609T150718Z
LAST-MODIFIED:20250702T181923Z
UID:10000214-1792436400-1792443600@chicagolandmgclub.com
SUMMARY:CMCG Monthly Club Meeting
DESCRIPTION:CMGC has regularly scheduled club meetings with presentations relating to the care and feeding of your car\, as well as other auto related topics. Third Monday of each month (except December – no meeting).
URL:https://chicagolandmgclub.com/event/cmcg-monthly-club-meeting/2026-10-19/
LOCATION:Mr. Beef and Pizza\, 1796 Elmhurst Rd.\, Mt. Prospect\, IL\, 60056\, United States
CATEGORIES:Monthly Club Meeting
ATTACH;FMTTYPE=image/png:https://chicagolandmgclub.com/wp-content/uploads/2022/03/CMGC-Logo-1A.png
END:VEVENT
BEGIN:VEVENT
DTSTART;TZID=America/Chicago:20261116T190000
DTEND;TZID=America/Chicago:20261116T210000
DTSTAMP:20260423T152017
CREATED:20250609T150718Z
LAST-MODIFIED:20250702T181923Z
UID:10000215-1794855600-1794862800@chicagolandmgclub.com
SUMMARY:CMCG Monthly Club Meeting
DESCRIPTION:CMGC has regularly scheduled club meetings with presentations relating to the care and feeding of your car\, as well as other auto related topics. Third Monday of each month (except December – no meeting).
URL:https://chicagolandmgclub.com/event/cmcg-monthly-club-meeting/2026-11-16/
LOCATION:Mr. Beef and Pizza\, 1796 Elmhurst Rd.\, Mt. Prospect\, IL\, 60056\, United States
CATEGORIES:Monthly Club Meeting
ATTACH;FMTTYPE=image/png:https://chicagolandmgclub.com/wp-content/uploads/2022/03/CMGC-Logo-1A.png
END:VEVENT
BEGIN:VEVENT
DTSTART;TZID=America/Chicago:20261209T190000
DTEND;TZID=America/Chicago:20261209T220000
DTSTAMP:20260423T152017
CREATED:20230925T231850Z
LAST-MODIFIED:20240220T001403Z
UID:10000144-1796842800-1796853600@chicagolandmgclub.com
SUMMARY:Natter'n Noggin - North
DESCRIPTION:On the second Wednesday of each EVEN month we gather together in a more informal environment for Natter‘n Noggin\, a British term for a pint and a casual conversation. This offers a good opportunity for a relaxing gathering and a chance to chat with club members about MG’s and other topics.
URL:https://chicagolandmgclub.com/event/natter-n-noggin-north-2/2026-12-09/
LOCATION:Fox & Hound\, 1416 N Roselle Rd Unit 3032\, Schaumburg\, IL\, 60195\, United States
CATEGORIES:Natter'n Noggin
ATTACH;FMTTYPE=image/png:https://chicagolandmgclub.com/wp-content/uploads/2022/10/CLMGC-Green-logo-Banner.png
END:VEVENT
BEGIN:VEVENT
DTSTART;TZID=America/Chicago:20270118T190000
DTEND;TZID=America/Chicago:20270118T210000
DTSTAMP:20260423T152017
CREATED:20250609T150718Z
LAST-MODIFIED:20250702T181923Z
UID:10000216-1800298800-1800306000@chicagolandmgclub.com
SUMMARY:CMCG Monthly Club Meeting
DESCRIPTION:CMGC has regularly scheduled club meetings with presentations relating to the care and feeding of your car\, as well as other auto related topics. Third Monday of each month (except December – no meeting).
URL:https://chicagolandmgclub.com/event/cmcg-monthly-club-meeting/2027-01-18/
LOCATION:Mr. Beef and Pizza\, 1796 Elmhurst Rd.\, Mt. Prospect\, IL\, 60056\, United States
CATEGORIES:Monthly Club Meeting
ATTACH;FMTTYPE=image/png:https://chicagolandmgclub.com/wp-content/uploads/2022/03/CMGC-Logo-1A.png
END:VEVENT
BEGIN:VEVENT
DTSTART;TZID=America/Chicago:20270210T190000
DTEND;TZID=America/Chicago:20270210T220000
DTSTAMP:20260423T152017
CREATED:20230925T231850Z
LAST-MODIFIED:20240220T001403Z
UID:10000145-1802286000-1802296800@chicagolandmgclub.com
SUMMARY:Natter'n Noggin - North
DESCRIPTION:On the second Wednesday of each EVEN month we gather together in a more informal environment for Natter‘n Noggin\, a British term for a pint and a casual conversation. This offers a good opportunity for a relaxing gathering and a chance to chat with club members about MG’s and other topics.
URL:https://chicagolandmgclub.com/event/natter-n-noggin-north-2/2027-02-10/
LOCATION:Fox & Hound\, 1416 N Roselle Rd Unit 3032\, Schaumburg\, IL\, 60195\, United States
CATEGORIES:Natter'n Noggin
ATTACH;FMTTYPE=image/png:https://chicagolandmgclub.com/wp-content/uploads/2022/10/CLMGC-Green-logo-Banner.png
END:VEVENT
BEGIN:VEVENT
DTSTART;TZID=America/Chicago:20270215T190000
DTEND;TZID=America/Chicago:20270215T210000
DTSTAMP:20260423T152017
CREATED:20250609T150718Z
LAST-MODIFIED:20250702T181923Z
UID:10000217-1802718000-1802725200@chicagolandmgclub.com
SUMMARY:CMCG Monthly Club Meeting
DESCRIPTION:CMGC has regularly scheduled club meetings with presentations relating to the care and feeding of your car\, as well as other auto related topics. Third Monday of each month (except December – no meeting).
URL:https://chicagolandmgclub.com/event/cmcg-monthly-club-meeting/2027-02-15/
LOCATION:Mr. Beef and Pizza\, 1796 Elmhurst Rd.\, Mt. Prospect\, IL\, 60056\, United States
CATEGORIES:Monthly Club Meeting
ATTACH;FMTTYPE=image/png:https://chicagolandmgclub.com/wp-content/uploads/2022/03/CMGC-Logo-1A.png
END:VEVENT
BEGIN:VEVENT
DTSTART;TZID=America/Chicago:20270315T190000
DTEND;TZID=America/Chicago:20270315T210000
DTSTAMP:20260423T152017
CREATED:20250609T150718Z
LAST-MODIFIED:20250702T181923Z
UID:10000218-1805137200-1805144400@chicagolandmgclub.com
SUMMARY:CMCG Monthly Club Meeting
DESCRIPTION:CMGC has regularly scheduled club meetings with presentations relating to the care and feeding of your car\, as well as other auto related topics. Third Monday of each month (except December – no meeting).
URL:https://chicagolandmgclub.com/event/cmcg-monthly-club-meeting/2027-03-15/
LOCATION:Mr. Beef and Pizza\, 1796 Elmhurst Rd.\, Mt. Prospect\, IL\, 60056\, United States
CATEGORIES:Monthly Club Meeting
ATTACH;FMTTYPE=image/png:https://chicagolandmgclub.com/wp-content/uploads/2022/03/CMGC-Logo-1A.png
END:VEVENT
BEGIN:VEVENT
DTSTART;TZID=America/Chicago:20270414T190000
DTEND;TZID=America/Chicago:20270414T220000
DTSTAMP:20260423T152017
CREATED:20230925T231850Z
LAST-MODIFIED:20240220T001403Z
UID:10000146-1807729200-1807740000@chicagolandmgclub.com
SUMMARY:Natter'n Noggin - North
DESCRIPTION:On the second Wednesday of each EVEN month we gather together in a more informal environment for Natter‘n Noggin\, a British term for a pint and a casual conversation. This offers a good opportunity for a relaxing gathering and a chance to chat with club members about MG’s and other topics.
URL:https://chicagolandmgclub.com/event/natter-n-noggin-north-2/2027-04-14/
LOCATION:Fox & Hound\, 1416 N Roselle Rd Unit 3032\, Schaumburg\, IL\, 60195\, United States
CATEGORIES:Natter'n Noggin
ATTACH;FMTTYPE=image/png:https://chicagolandmgclub.com/wp-content/uploads/2022/10/CLMGC-Green-logo-Banner.png
END:VEVENT
BEGIN:VEVENT
DTSTART;TZID=America/Chicago:20270419T190000
DTEND;TZID=America/Chicago:20270419T210000
DTSTAMP:20260423T152017
CREATED:20250609T150718Z
LAST-MODIFIED:20250702T181923Z
UID:10000219-1808161200-1808168400@chicagolandmgclub.com
SUMMARY:CMCG Monthly Club Meeting
DESCRIPTION:CMGC has regularly scheduled club meetings with presentations relating to the care and feeding of your car\, as well as other auto related topics. Third Monday of each month (except December – no meeting).
URL:https://chicagolandmgclub.com/event/cmcg-monthly-club-meeting/2027-04-19/
LOCATION:Mr. Beef and Pizza\, 1796 Elmhurst Rd.\, Mt. Prospect\, IL\, 60056\, United States
CATEGORIES:Monthly Club Meeting
ATTACH;FMTTYPE=image/png:https://chicagolandmgclub.com/wp-content/uploads/2022/03/CMGC-Logo-1A.png
END:VEVENT
BEGIN:VEVENT
DTSTART;TZID=America/Chicago:20270517T190000
DTEND;TZID=America/Chicago:20270517T210000
DTSTAMP:20260423T152017
CREATED:20250609T150718Z
LAST-MODIFIED:20250702T181923Z
UID:10000220-1810580400-1810587600@chicagolandmgclub.com
SUMMARY:CMCG Monthly Club Meeting
DESCRIPTION:CMGC has regularly scheduled club meetings with presentations relating to the care and feeding of your car\, as well as other auto related topics. Third Monday of each month (except December – no meeting).
URL:https://chicagolandmgclub.com/event/cmcg-monthly-club-meeting/2027-05-17/
LOCATION:Mr. Beef and Pizza\, 1796 Elmhurst Rd.\, Mt. Prospect\, IL\, 60056\, United States
CATEGORIES:Monthly Club Meeting
ATTACH;FMTTYPE=image/png:https://chicagolandmgclub.com/wp-content/uploads/2022/03/CMGC-Logo-1A.png
END:VEVENT
BEGIN:VEVENT
DTSTART;TZID=America/Chicago:20270609T190000
DTEND;TZID=America/Chicago:20270609T220000
DTSTAMP:20260423T152017
CREATED:20230925T231850Z
LAST-MODIFIED:20240220T001403Z
UID:10000147-1812567600-1812578400@chicagolandmgclub.com
SUMMARY:Natter'n Noggin - North
DESCRIPTION:On the second Wednesday of each EVEN month we gather together in a more informal environment for Natter‘n Noggin\, a British term for a pint and a casual conversation. This offers a good opportunity for a relaxing gathering and a chance to chat with club members about MG’s and other topics.
URL:https://chicagolandmgclub.com/event/natter-n-noggin-north-2/2027-06-09/
LOCATION:Fox & Hound\, 1416 N Roselle Rd Unit 3032\, Schaumburg\, IL\, 60195\, United States
CATEGORIES:Natter'n Noggin
ATTACH;FMTTYPE=image/png:https://chicagolandmgclub.com/wp-content/uploads/2022/10/CLMGC-Green-logo-Banner.png
END:VEVENT
BEGIN:VEVENT
DTSTART;TZID=America/Chicago:20270621T190000
DTEND;TZID=America/Chicago:20270621T210000
DTSTAMP:20260423T152017
CREATED:20250609T150718Z
LAST-MODIFIED:20250702T181923Z
UID:10000221-1813604400-1813611600@chicagolandmgclub.com
SUMMARY:CMCG Monthly Club Meeting
DESCRIPTION:CMGC has regularly scheduled club meetings with presentations relating to the care and feeding of your car\, as well as other auto related topics. Third Monday of each month (except December – no meeting).
URL:https://chicagolandmgclub.com/event/cmcg-monthly-club-meeting/2027-06-21/
LOCATION:Mr. Beef and Pizza\, 1796 Elmhurst Rd.\, Mt. Prospect\, IL\, 60056\, United States
CATEGORIES:Monthly Club Meeting
ATTACH;FMTTYPE=image/png:https://chicagolandmgclub.com/wp-content/uploads/2022/03/CMGC-Logo-1A.png
END:VEVENT
BEGIN:VEVENT
DTSTART;TZID=America/Chicago:20270719T190000
DTEND;TZID=America/Chicago:20270719T210000
DTSTAMP:20260423T152017
CREATED:20250609T150718Z
LAST-MODIFIED:20250702T181923Z
UID:10000222-1816023600-1816030800@chicagolandmgclub.com
SUMMARY:CMCG Monthly Club Meeting
DESCRIPTION:CMGC has regularly scheduled club meetings with presentations relating to the care and feeding of your car\, as well as other auto related topics. Third Monday of each month (except December – no meeting).
URL:https://chicagolandmgclub.com/event/cmcg-monthly-club-meeting/2027-07-19/
LOCATION:Mr. Beef and Pizza\, 1796 Elmhurst Rd.\, Mt. Prospect\, IL\, 60056\, United States
CATEGORIES:Monthly Club Meeting
ATTACH;FMTTYPE=image/png:https://chicagolandmgclub.com/wp-content/uploads/2022/03/CMGC-Logo-1A.png
END:VEVENT
BEGIN:VEVENT
DTSTART;TZID=America/Chicago:20270811T190000
DTEND;TZID=America/Chicago:20270811T220000
DTSTAMP:20260423T152017
CREATED:20230925T231850Z
LAST-MODIFIED:20240220T001403Z
UID:10000148-1818010800-1818021600@chicagolandmgclub.com
SUMMARY:Natter'n Noggin - North
DESCRIPTION:On the second Wednesday of each EVEN month we gather together in a more informal environment for Natter‘n Noggin\, a British term for a pint and a casual conversation. This offers a good opportunity for a relaxing gathering and a chance to chat with club members about MG’s and other topics.
URL:https://chicagolandmgclub.com/event/natter-n-noggin-north-2/2027-08-11/
LOCATION:Fox & Hound\, 1416 N Roselle Rd Unit 3032\, Schaumburg\, IL\, 60195\, United States
CATEGORIES:Natter'n Noggin
ATTACH;FMTTYPE=image/png:https://chicagolandmgclub.com/wp-content/uploads/2022/10/CLMGC-Green-logo-Banner.png
END:VEVENT
BEGIN:VEVENT
DTSTART;TZID=America/Chicago:20270816T190000
DTEND;TZID=America/Chicago:20270816T210000
DTSTAMP:20260423T152017
CREATED:20250609T150718Z
LAST-MODIFIED:20250702T181923Z
UID:10000223-1818442800-1818450000@chicagolandmgclub.com
SUMMARY:CMCG Monthly Club Meeting
DESCRIPTION:CMGC has regularly scheduled club meetings with presentations relating to the care and feeding of your car\, as well as other auto related topics. Third Monday of each month (except December – no meeting).
URL:https://chicagolandmgclub.com/event/cmcg-monthly-club-meeting/2027-08-16/
LOCATION:Mr. Beef and Pizza\, 1796 Elmhurst Rd.\, Mt. Prospect\, IL\, 60056\, United States
CATEGORIES:Monthly Club Meeting
ATTACH;FMTTYPE=image/png:https://chicagolandmgclub.com/wp-content/uploads/2022/03/CMGC-Logo-1A.png
END:VEVENT
BEGIN:VEVENT
DTSTART;TZID=America/Chicago:20270920T190000
DTEND;TZID=America/Chicago:20270920T210000
DTSTAMP:20260423T152017
CREATED:20250609T150718Z
LAST-MODIFIED:20250702T181923Z
UID:10000224-1821466800-1821474000@chicagolandmgclub.com
SUMMARY:CMCG Monthly Club Meeting
DESCRIPTION:CMGC has regularly scheduled club meetings with presentations relating to the care and feeding of your car\, as well as other auto related topics. Third Monday of each month (except December – no meeting).
URL:https://chicagolandmgclub.com/event/cmcg-monthly-club-meeting/2027-09-20/
LOCATION:Mr. Beef and Pizza\, 1796 Elmhurst Rd.\, Mt. Prospect\, IL\, 60056\, United States
CATEGORIES:Monthly Club Meeting
ATTACH;FMTTYPE=image/png:https://chicagolandmgclub.com/wp-content/uploads/2022/03/CMGC-Logo-1A.png
END:VEVENT
BEGIN:VEVENT
DTSTART;TZID=America/Chicago:20271013T190000
DTEND;TZID=America/Chicago:20271013T220000
DTSTAMP:20260423T152017
CREATED:20230925T231850Z
LAST-MODIFIED:20240220T001403Z
UID:10000149-1823454000-1823464800@chicagolandmgclub.com
SUMMARY:Natter'n Noggin - North
DESCRIPTION:On the second Wednesday of each EVEN month we gather together in a more informal environment for Natter‘n Noggin\, a British term for a pint and a casual conversation. This offers a good opportunity for a relaxing gathering and a chance to chat with club members about MG’s and other topics.
URL:https://chicagolandmgclub.com/event/natter-n-noggin-north-2/2027-10-13/
LOCATION:Fox & Hound\, 1416 N Roselle Rd Unit 3032\, Schaumburg\, IL\, 60195\, United States
CATEGORIES:Natter'n Noggin
ATTACH;FMTTYPE=image/png:https://chicagolandmgclub.com/wp-content/uploads/2022/10/CLMGC-Green-logo-Banner.png
END:VEVENT
BEGIN:VEVENT
DTSTART;TZID=America/Chicago:20271018T190000
DTEND;TZID=America/Chicago:20271018T210000
DTSTAMP:20260423T152017
CREATED:20250609T150718Z
LAST-MODIFIED:20250702T181923Z
UID:10000225-1823886000-1823893200@chicagolandmgclub.com
SUMMARY:CMCG Monthly Club Meeting
DESCRIPTION:CMGC has regularly scheduled club meetings with presentations relating to the care and feeding of your car\, as well as other auto related topics. Third Monday of each month (except December – no meeting).
URL:https://chicagolandmgclub.com/event/cmcg-monthly-club-meeting/2027-10-18/
LOCATION:Mr. Beef and Pizza\, 1796 Elmhurst Rd.\, Mt. Prospect\, IL\, 60056\, United States
CATEGORIES:Monthly Club Meeting
ATTACH;FMTTYPE=image/png:https://chicagolandmgclub.com/wp-content/uploads/2022/03/CMGC-Logo-1A.png
END:VEVENT
BEGIN:VEVENT
DTSTART;TZID=America/Chicago:20271115T190000
DTEND;TZID=America/Chicago:20271115T210000
DTSTAMP:20260423T152017
CREATED:20250609T150718Z
LAST-MODIFIED:20250702T181923Z
UID:10000226-1826305200-1826312400@chicagolandmgclub.com
SUMMARY:CMCG Monthly Club Meeting
DESCRIPTION:CMGC has regularly scheduled club meetings with presentations relating to the care and feeding of your car\, as well as other auto related topics. Third Monday of each month (except December – no meeting).
URL:https://chicagolandmgclub.com/event/cmcg-monthly-club-meeting/2027-11-15/
LOCATION:Mr. Beef and Pizza\, 1796 Elmhurst Rd.\, Mt. Prospect\, IL\, 60056\, United States
CATEGORIES:Monthly Club Meeting
ATTACH;FMTTYPE=image/png:https://chicagolandmgclub.com/wp-content/uploads/2022/03/CMGC-Logo-1A.png
END:VEVENT
BEGIN:VEVENT
DTSTART;TZID=America/Chicago:20271208T190000
DTEND;TZID=America/Chicago:20271208T220000
DTSTAMP:20260423T152017
CREATED:20230925T231850Z
LAST-MODIFIED:20240220T001403Z
UID:10000150-1828292400-1828303200@chicagolandmgclub.com
SUMMARY:Natter'n Noggin - North
DESCRIPTION:On the second Wednesday of each EVEN month we gather together in a more informal environment for Natter‘n Noggin\, a British term for a pint and a casual conversation. This offers a good opportunity for a relaxing gathering and a chance to chat with club members about MG’s and other topics.
URL:https://chicagolandmgclub.com/event/natter-n-noggin-north-2/2027-12-08/
LOCATION:Fox & Hound\, 1416 N Roselle Rd Unit 3032\, Schaumburg\, IL\, 60195\, United States
CATEGORIES:Natter'n Noggin
ATTACH;FMTTYPE=image/png:https://chicagolandmgclub.com/wp-content/uploads/2022/10/CLMGC-Green-logo-Banner.png
END:VEVENT
BEGIN:VEVENT
DTSTART;TZID=America/Chicago:20280117T190000
DTEND;TZID=America/Chicago:20280117T210000
DTSTAMP:20260423T152017
CREATED:20250609T150718Z
LAST-MODIFIED:20250702T181923Z
UID:10000227-1831748400-1831755600@chicagolandmgclub.com
SUMMARY:CMCG Monthly Club Meeting
DESCRIPTION:CMGC has regularly scheduled club meetings with presentations relating to the care and feeding of your car\, as well as other auto related topics. Third Monday of each month (except December – no meeting).
URL:https://chicagolandmgclub.com/event/cmcg-monthly-club-meeting/2028-01-17/
LOCATION:Mr. Beef and Pizza\, 1796 Elmhurst Rd.\, Mt. Prospect\, IL\, 60056\, United States
CATEGORIES:Monthly Club Meeting
ATTACH;FMTTYPE=image/png:https://chicagolandmgclub.com/wp-content/uploads/2022/03/CMGC-Logo-1A.png
END:VEVENT
BEGIN:VEVENT
DTSTART;TZID=America/Chicago:20280209T190000
DTEND;TZID=America/Chicago:20280209T220000
DTSTAMP:20260423T152017
CREATED:20230925T231850Z
LAST-MODIFIED:20240220T001403Z
UID:10000151-1833735600-1833746400@chicagolandmgclub.com
SUMMARY:Natter'n Noggin - North
DESCRIPTION:On the second Wednesday of each EVEN month we gather together in a more informal environment for Natter‘n Noggin\, a British term for a pint and a casual conversation. This offers a good opportunity for a relaxing gathering and a chance to chat with club members about MG’s and other topics.
URL:https://chicagolandmgclub.com/event/natter-n-noggin-north-2/2028-02-09/
LOCATION:Fox & Hound\, 1416 N Roselle Rd Unit 3032\, Schaumburg\, IL\, 60195\, United States
CATEGORIES:Natter'n Noggin
ATTACH;FMTTYPE=image/png:https://chicagolandmgclub.com/wp-content/uploads/2022/10/CLMGC-Green-logo-Banner.png
END:VEVENT
BEGIN:VEVENT
DTSTART;TZID=America/Chicago:20280221T190000
DTEND;TZID=America/Chicago:20280221T210000
DTSTAMP:20260423T152017
CREATED:20250609T150718Z
LAST-MODIFIED:20250702T181923Z
UID:10000228-1834772400-1834779600@chicagolandmgclub.com
SUMMARY:CMCG Monthly Club Meeting
DESCRIPTION:CMGC has regularly scheduled club meetings with presentations relating to the care and feeding of your car\, as well as other auto related topics. Third Monday of each month (except December – no meeting).
URL:https://chicagolandmgclub.com/event/cmcg-monthly-club-meeting/2028-02-21/
LOCATION:Mr. Beef and Pizza\, 1796 Elmhurst Rd.\, Mt. Prospect\, IL\, 60056\, United States
CATEGORIES:Monthly Club Meeting
ATTACH;FMTTYPE=image/png:https://chicagolandmgclub.com/wp-content/uploads/2022/03/CMGC-Logo-1A.png
END:VEVENT
BEGIN:VEVENT
DTSTART;TZID=America/Chicago:20280320T190000
DTEND;TZID=America/Chicago:20280320T210000
DTSTAMP:20260423T152017
CREATED:20250609T150718Z
LAST-MODIFIED:20250702T181923Z
UID:10000229-1837191600-1837198800@chicagolandmgclub.com
SUMMARY:CMCG Monthly Club Meeting
DESCRIPTION:CMGC has regularly scheduled club meetings with presentations relating to the care and feeding of your car\, as well as other auto related topics. Third Monday of each month (except December – no meeting).
URL:https://chicagolandmgclub.com/event/cmcg-monthly-club-meeting/2028-03-20/
LOCATION:Mr. Beef and Pizza\, 1796 Elmhurst Rd.\, Mt. Prospect\, IL\, 60056\, United States
CATEGORIES:Monthly Club Meeting
ATTACH;FMTTYPE=image/png:https://chicagolandmgclub.com/wp-content/uploads/2022/03/CMGC-Logo-1A.png
END:VEVENT
BEGIN:VEVENT
DTSTART;TZID=America/Chicago:20280412T190000
DTEND;TZID=America/Chicago:20280412T220000
DTSTAMP:20260423T152017
CREATED:20230925T231850Z
LAST-MODIFIED:20240220T001403Z
UID:10000152-1839178800-1839189600@chicagolandmgclub.com
SUMMARY:Natter'n Noggin - North
DESCRIPTION:On the second Wednesday of each EVEN month we gather together in a more informal environment for Natter‘n Noggin\, a British term for a pint and a casual conversation. This offers a good opportunity for a relaxing gathering and a chance to chat with club members about MG’s and other topics.
URL:https://chicagolandmgclub.com/event/natter-n-noggin-north-2/2028-04-12/
LOCATION:Fox & Hound\, 1416 N Roselle Rd Unit 3032\, Schaumburg\, IL\, 60195\, United States
CATEGORIES:Natter'n Noggin
ATTACH;FMTTYPE=image/png:https://chicagolandmgclub.com/wp-content/uploads/2022/10/CLMGC-Green-logo-Banner.png
END:VEVENT
BEGIN:VEVENT
DTSTART;TZID=America/Chicago:20280417T190000
DTEND;TZID=America/Chicago:20280417T210000
DTSTAMP:20260423T152017
CREATED:20250609T150718Z
LAST-MODIFIED:20250702T181923Z
UID:10000230-1839610800-1839618000@chicagolandmgclub.com
SUMMARY:CMCG Monthly Club Meeting
DESCRIPTION:CMGC has regularly scheduled club meetings with presentations relating to the care and feeding of your car\, as well as other auto related topics. Third Monday of each month (except December – no meeting).
URL:https://chicagolandmgclub.com/event/cmcg-monthly-club-meeting/2028-04-17/
LOCATION:Mr. Beef and Pizza\, 1796 Elmhurst Rd.\, Mt. Prospect\, IL\, 60056\, United States
CATEGORIES:Monthly Club Meeting
ATTACH;FMTTYPE=image/png:https://chicagolandmgclub.com/wp-content/uploads/2022/03/CMGC-Logo-1A.png
END:VEVENT
END:VCALENDAR