BEGIN:VCALENDAR
VERSION:2.0
PRODID:-//Chicagoland MG Club - ECPv6.15.20//NONSGML v1.0//EN
CALSCALE:GREGORIAN
METHOD:PUBLISH
X-WR-CALNAME:Chicagoland MG Club
X-ORIGINAL-URL:https://chicagolandmgclub.com
X-WR-CALDESC:Events for Chicagoland MG Club
REFRESH-INTERVAL;VALUE=DURATION:PT1H
X-Robots-Tag:noindex
X-PUBLISHED-TTL:PT1H
BEGIN:VTIMEZONE
TZID:America/Chicago
BEGIN:DAYLIGHT
TZOFFSETFROM:-0600
TZOFFSETTO:-0500
TZNAME:CDT
DTSTART:20240310T080000
END:DAYLIGHT
BEGIN:STANDARD
TZOFFSETFROM:-0500
TZOFFSETTO:-0600
TZNAME:CST
DTSTART:20241103T070000
END:STANDARD
BEGIN:DAYLIGHT
TZOFFSETFROM:-0600
TZOFFSETTO:-0500
TZNAME:CDT
DTSTART:20250309T080000
END:DAYLIGHT
BEGIN:STANDARD
TZOFFSETFROM:-0500
TZOFFSETTO:-0600
TZNAME:CST
DTSTART:20251102T070000
END:STANDARD
BEGIN:DAYLIGHT
TZOFFSETFROM:-0600
TZOFFSETTO:-0500
TZNAME:CDT
DTSTART:20260308T080000
END:DAYLIGHT
BEGIN:STANDARD
TZOFFSETFROM:-0500
TZOFFSETTO:-0600
TZNAME:CST
DTSTART:20261101T070000
END:STANDARD
END:VTIMEZONE
BEGIN:VEVENT
DTSTART;TZID=America/Chicago:20250409T190000
DTEND;TZID=America/Chicago:20250409T220000
DTSTAMP:20260425T063003
CREATED:20230925T231850Z
LAST-MODIFIED:20240220T001403Z
UID:10000134-1744225200-1744236000@chicagolandmgclub.com
SUMMARY:Natter'n Noggin - North
DESCRIPTION:On the second Wednesday of each EVEN month we gather together in a more informal environment for Natter‘n Noggin\, a British term for a pint and a casual conversation. This offers a good opportunity for a relaxing gathering and a chance to chat with club members about MG’s and other topics.
URL:https://chicagolandmgclub.com/event/natter-n-noggin-north-2/2025-04-09/
LOCATION:Fox & Hound\, 1416 N Roselle Rd Unit 3032\, Schaumburg\, IL\, 60195\, United States
CATEGORIES:Natter'n Noggin
ATTACH;FMTTYPE=image/png:https://chicagolandmgclub.com/wp-content/uploads/2022/10/CLMGC-Green-logo-Banner.png
END:VEVENT
BEGIN:VEVENT
DTSTART;TZID=America/Chicago:20250421T190000
DTEND;TZID=America/Chicago:20250421T210000
DTSTAMP:20260425T063003
CREATED:20240220T211320Z
LAST-MODIFIED:20240220T223227Z
UID:10000091-1745262000-1745269200@chicagolandmgclub.com
SUMMARY:CMCG Monthly Club Meeting
DESCRIPTION:CMGC has regularly scheduled club meetings with presentations relating to the care and feeding of your car\, as well as other auto related topics.Third Monday of each month (except December – no meeting).
URL:https://chicagolandmgclub.com/event/cmcg-monthly-club-meeting-2-3/2025-04-21/
LOCATION:Mr. Beef and Pizza\, 1796 Elmhurst Rd.\, Mt. Prospect\, IL\, 60056\, United States
CATEGORIES:Monthly Club Meeting
ATTACH;FMTTYPE=image/png:https://chicagolandmgclub.com/wp-content/uploads/2022/03/CMGC-Logo-1A.png
END:VEVENT
BEGIN:VEVENT
DTSTART;TZID=America/Chicago:20250602T080000
DTEND;TZID=America/Chicago:20250606T170000
DTSTAMP:20260425T063003
CREATED:20241229T200017Z
LAST-MODIFIED:20250409T204824Z
UID:10000180-1748851200-1749229200@chicagolandmgclub.com
SUMMARY:2025 - NAMGAR GT-50 -  Traverse City\, MI - June 2nd - 6th 2025
DESCRIPTION:2025 – NAMGAR GT-50 – Traverse City\, MI June 2-6th 2025 \n70th MGA Anniversary \nGet more information by going to the NAMGAR website: 2025 – NAMGAR GT-50 \n \nRegister: Here \n \n 
URL:https://chicagolandmgclub.com/event/2025-namgar-gt-50-traverse-city-mi-june-2-6th-2025/
LOCATION:GREAT WOLF LODGE\, TRAVERSE CITY\, MICHIGAN\, 3575 US-31\, Traverse City\, MI\, 49684
CATEGORIES:Non-Driving Events
ATTACH;FMTTYPE=image/png:https://chicagolandmgclub.com/wp-content/uploads/2024/12/2025GT50.png
END:VEVENT
BEGIN:VEVENT
DTSTART;TZID=America/Chicago:20250611T190000
DTEND;TZID=America/Chicago:20250611T220000
DTSTAMP:20260425T063003
CREATED:20230925T231850Z
LAST-MODIFIED:20240220T001403Z
UID:10000135-1749668400-1749679200@chicagolandmgclub.com
SUMMARY:Natter'n Noggin - North
DESCRIPTION:On the second Wednesday of each EVEN month we gather together in a more informal environment for Natter‘n Noggin\, a British term for a pint and a casual conversation. This offers a good opportunity for a relaxing gathering and a chance to chat with club members about MG’s and other topics.
URL:https://chicagolandmgclub.com/event/natter-n-noggin-north-2/2025-06-11/
LOCATION:Fox & Hound\, 1416 N Roselle Rd Unit 3032\, Schaumburg\, IL\, 60195\, United States
CATEGORIES:Natter'n Noggin
ATTACH;FMTTYPE=image/png:https://chicagolandmgclub.com/wp-content/uploads/2022/10/CLMGC-Green-logo-Banner.png
END:VEVENT
BEGIN:VEVENT
DTSTART;VALUE=DATE:20250616
DTEND;VALUE=DATE:20250621
DTSTAMP:20260425T063003
CREATED:20241229T220048Z
LAST-MODIFIED:20250416T012552Z
UID:10000071-1750032000-1750463999@chicagolandmgclub.com
SUMMARY:2025 - GOF Central\, June 16th-20th
DESCRIPTION:Welcome to GOF Central 2025! \n Proudly hosted by the Vintage MG Car Club of Chicago. Please join us June 16-20\, 2025 as the GOF Central celebrates 75 years of the MG TD! \nLocate at the Double Tree Suites By Hilton\n2111 Butterfield Rd.\nDowners Grove\, IL 60515 \nCar show at St James Farm in Warrenville  \nGo to GOF Central 2025 for more information on this event including\, schedules\, activities\, accommodations & registration. \nHope to see you all there!
URL:https://chicagolandmgclub.com/event/gof-central-2025/
LOCATION:Double Tree Suites by Hilton\, 2111 Butterfield Rd\, Downers Grove\, IL\, 60515\, United States
CATEGORIES:Non-MG Club Events
ATTACH;FMTTYPE=application/pdf:https://chicagolandmgclub.com/wp-content/uploads/2024/12/GOF.pdf
END:VEVENT
BEGIN:VEVENT
DTSTART;TZID=America/Chicago:20250721T190000
DTEND;TZID=America/Chicago:20250721T210000
DTSTAMP:20260425T063003
CREATED:20250609T150718Z
LAST-MODIFIED:20250702T181923Z
UID:10000200-1753124400-1753131600@chicagolandmgclub.com
SUMMARY:CMCG Monthly Club Meeting
DESCRIPTION:CMGC has regularly scheduled club meetings with presentations relating to the care and feeding of your car\, as well as other auto related topics. Third Monday of each month (except December – no meeting).
URL:https://chicagolandmgclub.com/event/cmcg-monthly-club-meeting/2025-07-21/
LOCATION:Mr. Beef and Pizza\, 1796 Elmhurst Rd.\, Mt. Prospect\, IL\, 60056\, United States
CATEGORIES:Monthly Club Meeting
ATTACH;FMTTYPE=image/png:https://chicagolandmgclub.com/wp-content/uploads/2022/03/CMGC-Logo-1A.png
END:VEVENT
BEGIN:VEVENT
DTSTART;TZID=America/Chicago:20250728T100000
DTEND;TZID=America/Chicago:20250731T220000
DTSTAMP:20260425T063003
CREATED:20250330T162822Z
LAST-MODIFIED:20250725T183808Z
UID:10000179-1753696800-1753999200@chicagolandmgclub.com
SUMMARY:2025 NAMGBR25 - Hosted by the Chicagoland MG Club\, July 28th - 31st 2025
DESCRIPTION:MG2025 is supported by\, the Chicagoland MG Club. This is a multi-day celebration of all things MG and a gathering of MG enthusiasts from around the globe. The MG2025 annual convention is being hosted in Crystal Lake\, Illinois from July 28th to 31st 2025 . \nTake a look at the MG2025 Promotional Video to see what is planned. \nYouTube Video – Click here \nJump to the MG2025 page for an overview and learn more about this event. \nAdditional information for club members: \nHOTEL INFO\nOur Host Hotel is the Holiday Inn – Crystal Lake\, IL\, 800 S Illinois Rte 31\, Crystal Lake\, IL 60014 (about 50 miles northwest of Chicago). Their phone number is 815-477-7000 and the group rate is $124/night plus tax.\nOnce you have completed and paid for your MG2025 Registration\, you will receive an E-mail confirmation containing steps on how to book your room. \nYOU MUST PREREGISTER FOR MG2025 BEFORE YOU CAN BOOK A ROOM AT THE HOTEL. \nQUESTIONS? email to: info@mg2025.org \nTECH SESSION SPEAKERS \nSteve Skegg Hall of Shame – Tales from the Fix-it Garage\n10:00AM – Wednesday \nMark Huff H Series SU Carbs\n9:30-10:30 & 11:00-12:00 Tuesday -and-\n9:30-10:30 & 11:00-12:00 Wednesday \nJohn Twist Speed Tuning\n3:00 – 4:00 Tuesday \nJohn Twist John’s ROLLING TECH SESSION\n9:30 – 2:00 Wednesday \nCome back to this website for updated information. We look forward to seeing you there.
URL:https://chicagolandmgclub.com/event/2025-namgbr25-hosted-by-the-chicagoland-mg-club/
LOCATION:Holiday Inn – Crystal Lake\, IL\, 800 S Illinois Rte 31\, Crystal Lake\, Illinois\, 60014
CATEGORIES:Special Event
ATTACH;FMTTYPE=application/pdf:https://chicagolandmgclub.com/wp-content/uploads/2024/12/BluesBrothers-1.pdf
END:VEVENT
BEGIN:VEVENT
DTSTART;TZID=America/Chicago:20250813T190000
DTEND;TZID=America/Chicago:20250813T220000
DTSTAMP:20260425T063003
CREATED:20230925T231850Z
LAST-MODIFIED:20240220T001403Z
UID:10000136-1755111600-1755122400@chicagolandmgclub.com
SUMMARY:Natter'n Noggin - North
DESCRIPTION:On the second Wednesday of each EVEN month we gather together in a more informal environment for Natter‘n Noggin\, a British term for a pint and a casual conversation. This offers a good opportunity for a relaxing gathering and a chance to chat with club members about MG’s and other topics.
URL:https://chicagolandmgclub.com/event/natter-n-noggin-north-2/2025-08-13/
LOCATION:Fox & Hound\, 1416 N Roselle Rd Unit 3032\, Schaumburg\, IL\, 60195\, United States
CATEGORIES:Natter'n Noggin
ATTACH;FMTTYPE=image/png:https://chicagolandmgclub.com/wp-content/uploads/2022/10/CLMGC-Green-logo-Banner.png
END:VEVENT
BEGIN:VEVENT
DTSTART;TZID=America/Chicago:20250818T190000
DTEND;TZID=America/Chicago:20250818T210000
DTSTAMP:20260425T063003
CREATED:20250609T150718Z
LAST-MODIFIED:20250702T181923Z
UID:10000201-1755543600-1755550800@chicagolandmgclub.com
SUMMARY:CMCG Monthly Club Meeting
DESCRIPTION:CMGC has regularly scheduled club meetings with presentations relating to the care and feeding of your car\, as well as other auto related topics. Third Monday of each month (except December – no meeting).
URL:https://chicagolandmgclub.com/event/cmcg-monthly-club-meeting/2025-08-18/
LOCATION:Mr. Beef and Pizza\, 1796 Elmhurst Rd.\, Mt. Prospect\, IL\, 60056\, United States
CATEGORIES:Monthly Club Meeting
ATTACH;FMTTYPE=image/png:https://chicagolandmgclub.com/wp-content/uploads/2022/03/CMGC-Logo-1A.png
END:VEVENT
END:VCALENDAR