BEGIN:VCALENDAR
VERSION:2.0
PRODID:-//Chicagoland MG Club - ECPv6.15.20//NONSGML v1.0//EN
CALSCALE:GREGORIAN
METHOD:PUBLISH
X-WR-CALNAME:Chicagoland MG Club
X-ORIGINAL-URL:https://chicagolandmgclub.com
X-WR-CALDESC:Events for Chicagoland MG Club
REFRESH-INTERVAL;VALUE=DURATION:PT1H
X-Robots-Tag:noindex
X-PUBLISHED-TTL:PT1H
BEGIN:VTIMEZONE
TZID:America/Chicago
BEGIN:DAYLIGHT
TZOFFSETFROM:-0600
TZOFFSETTO:-0500
TZNAME:CDT
DTSTART:20240310T080000
END:DAYLIGHT
BEGIN:STANDARD
TZOFFSETFROM:-0500
TZOFFSETTO:-0600
TZNAME:CST
DTSTART:20241103T070000
END:STANDARD
BEGIN:DAYLIGHT
TZOFFSETFROM:-0600
TZOFFSETTO:-0500
TZNAME:CDT
DTSTART:20250309T080000
END:DAYLIGHT
BEGIN:STANDARD
TZOFFSETFROM:-0500
TZOFFSETTO:-0600
TZNAME:CST
DTSTART:20251102T070000
END:STANDARD
BEGIN:DAYLIGHT
TZOFFSETFROM:-0600
TZOFFSETTO:-0500
TZNAME:CDT
DTSTART:20260308T080000
END:DAYLIGHT
BEGIN:STANDARD
TZOFFSETFROM:-0500
TZOFFSETTO:-0600
TZNAME:CST
DTSTART:20261101T070000
END:STANDARD
BEGIN:DAYLIGHT
TZOFFSETFROM:-0600
TZOFFSETTO:-0500
TZNAME:CDT
DTSTART:20270314T080000
END:DAYLIGHT
BEGIN:STANDARD
TZOFFSETFROM:-0500
TZOFFSETTO:-0600
TZNAME:CST
DTSTART:20271107T070000
END:STANDARD
END:VTIMEZONE
BEGIN:VEVENT
DTSTART;TZID=America/Chicago:20251005T104500
DTEND;TZID=America/Chicago:20251005T140000
DTSTAMP:20260425T062313
CREATED:20250701T195032Z
LAST-MODIFIED:20251004T174337Z
UID:10000178-1759661100-1759672800@chicagolandmgclub.com
SUMMARY:2025 - Apple Cider Run\, October 5th
DESCRIPTION:Apple Cider Run\, October 5th! \nCMCG members\, this is a casual Fall drive so you can enjoy the amazing fall colors on this ride!\nThis drive will take us to the All Seasons Orchard in Woodstock\, IL. Where you can snack on the delicious apple cider donuts\, drink fresh apple cider and enjoy many other apple products. You can also shop in the country store and purchase lots more cool stuff.\nMeeting Place:\nDunkin Donuts\n315 E Higgins Rd \nGilberts\, IL\n\nDriver Meeting 10:45 am\nDeparture 11:00 am\nEnding point:\nMoretti’s 2300\nBushwood Dr\,\nElgin\, IL\nPlease RSVP so we can firm up reservations for the restaurant after the drive. Last year the staff did a great job scrambling to find us chairs\, let’s make it easy on them.\nNOTE: WE ARE MAKINGT-SHIRTS FOR THE EVENT!\nOur target is $15 per shirt. The shirts will be gray with a new Apple Cider Run logo on the front and back.\nLet Rob or Sue know in advance if you want one. Cut off for orders is Sunday\, September 14th!!!!\nEmail or call or text Rob Costello with your shirt size asap!\nXS\, S\, M\, L\, XL\, 2XL\, 3XL\,4XL\nHosted by Rob and Sue Costello
URL:https://chicagolandmgclub.com/event/2025-apple-cider-run-october-5th/
LOCATION:Dunkin Donuts\, 315 E Higgins Rd\, Gilberts\, IL\, 60136
CATEGORIES:Driving Events
ATTACH;FMTTYPE=image/png:https://chicagolandmgclub.com/wp-content/uploads/2024/09/Capture.png
END:VEVENT
BEGIN:VEVENT
DTSTART;TZID=America/Chicago:20251008T190000
DTEND;TZID=America/Chicago:20251008T220000
DTSTAMP:20260425T062313
CREATED:20230925T231850Z
LAST-MODIFIED:20240220T001403Z
UID:10000137-1759950000-1759960800@chicagolandmgclub.com
SUMMARY:Natter'n Noggin - North
DESCRIPTION:On the second Wednesday of each EVEN month we gather together in a more informal environment for Natter‘n Noggin\, a British term for a pint and a casual conversation. This offers a good opportunity for a relaxing gathering and a chance to chat with club members about MG’s and other topics.
URL:https://chicagolandmgclub.com/event/natter-n-noggin-north-2/2025-10-08/
LOCATION:Fox & Hound\, 1416 N Roselle Rd Unit 3032\, Schaumburg\, IL\, 60195\, United States
CATEGORIES:Natter'n Noggin
ATTACH;FMTTYPE=image/png:https://chicagolandmgclub.com/wp-content/uploads/2022/10/CLMGC-Green-logo-Banner.png
END:VEVENT
BEGIN:VEVENT
DTSTART;TZID=America/Chicago:20251011T080000
DTEND;TZID=America/Chicago:20251011T080000
DTSTAMP:20260425T062313
CREATED:20250703T140017Z
LAST-MODIFIED:20250708T154550Z
UID:10000077-1760169600-1760169600@chicagolandmgclub.com
SUMMARY:2025 - Fall Triad Car Care Safety Clinic for Seniors\, Oct. 11th
DESCRIPTION:The safety clinic provides a free 40-point safety inspection of vehicles driven by senior citizens (ages 50 and older). \nChicagoland MG Club member Jim Vondran coordinates the Triad Car Safety Clinic each Spring and Autumn. The event grows each year as the Triad organization’s outreach to seniors continues to expand. Seniors are often subjected to unscrupulous mechanics who try to get the seniors to have unnecessary extra services. We rely heavenly on the club members to evaluate the seniors’ vehicles and advise them as to what may or may not need attention.\nVolunteers from the CMGC\, the Chicago area Model T Club and the Windy City Miata Club help in servicing and inspecting the vehicles. \nVintage and antique cars will again be on display: most are vehicles owned by our volunteer “car guys” who help preform the inspections. After their vehicles are inspected\, seniors are welcome to park their cars and view the “classic and vintage” vehicles. \nPlease contact Jim Vondran directly to affirm your participation as a team crew-member.\nPhone: 630-234-7102\nEmail: vondrangroup@aol.com \n*This is a non-sponsored CMGC event.
URL:https://chicagolandmgclub.com/event/2025-fall-triad-car-care-safety-clinic-for-seniors/
LOCATION:Venue: Lisle Township Maintenance Building – Lisle\, IL\, 4719 Indiana Ave\, Lisle\, IL\, 60532
CATEGORIES:Non-Driving Events
ATTACH;FMTTYPE=image/png:https://chicagolandmgclub.com/wp-content/uploads/2021/12/Capture.png
ORGANIZER;CN="Event Organizer - Jim Vondran":MAILTO:vondrangroup@aol.com
END:VEVENT
BEGIN:VEVENT
DTSTART;TZID=America/Chicago:20251020T190000
DTEND;TZID=America/Chicago:20251020T210000
DTSTAMP:20260425T062313
CREATED:20250609T150718Z
LAST-MODIFIED:20250702T181923Z
UID:10000203-1760986800-1760994000@chicagolandmgclub.com
SUMMARY:CMCG Monthly Club Meeting
DESCRIPTION:CMGC has regularly scheduled club meetings with presentations relating to the care and feeding of your car\, as well as other auto related topics. Third Monday of each month (except December – no meeting).
URL:https://chicagolandmgclub.com/event/cmcg-monthly-club-meeting/2025-10-20/
LOCATION:Mr. Beef and Pizza\, 1796 Elmhurst Rd.\, Mt. Prospect\, IL\, 60056\, United States
CATEGORIES:Monthly Club Meeting
ATTACH;FMTTYPE=image/png:https://chicagolandmgclub.com/wp-content/uploads/2022/03/CMGC-Logo-1A.png
END:VEVENT
BEGIN:VEVENT
DTSTART;TZID=America/Chicago:20251102T120000
DTEND;TZID=America/Chicago:20251102T160000
DTSTAMP:20260425T062313
CREATED:20250705T131112Z
LAST-MODIFIED:20250708T154518Z
UID:10000132-1762084800-1762099200@chicagolandmgclub.com
SUMMARY:2025 - Fall Tune Down & Chili Party\, Nov. 2nd.
DESCRIPTION:Inspect your MG cars and grab some chili! \nThe Fall Tune Down & Chili Party hosted by Dave “Cowboy” Bralich will take place on Sunday\, November 2nd. This will be the 16th time Dave has hosted this event and is open to CMGC members that want to take advantage of looking under\, over\, and around your MG\, along with the help of other CMGC members that want to tinker with each car that pulls into the garage.\nDo you know what your winter project will be? If not\, this is a perfect time to gather in Dave’s garage and make use of the low-lift hoist to do some underbody inspection. I am sure we can find something that should be fixed\, adjusted\, or replaced to determine what your winter project will look like in order to have completed before next year’s driving season. With this being the end of the driving season it could be a good time for an oil change\, some tune-up work\, or minor repairs. Bring your own parts\, oil and a jug for disposal (yes\, you will take your old oil away). \nIf you are set with your upcoming winter project and just want to lend a hand\, stop by anyway. Everyone will be welcomed to help themselves to the delicious – Cowboy’s Famous Chili and other goodies that will be provided. \n \nLocation:\n82 King Drive\, Streamwood\, IL\nGarage is open between 12:00 pm – 4:00 pm \nAny questions email: David Bralich – dbralich@sbcglobal.net \nThere is always a good crowd of MG enthusiasts and members looking to lend a hand or just hang out and talk MG’s. \n 
URL:https://chicagolandmgclub.com/event/2025-fall-tune-down-chili-party-nov-2nd/
LOCATION:Dave “Cowboy” Bralich’s Garage\, 82 King Drive\, Streamwood\, IL\, 60107
ATTACH;FMTTYPE=application/pdf:https://chicagolandmgclub.com/wp-content/uploads/2025/02/TUNE_DOWN.pdf
END:VEVENT
BEGIN:VEVENT
DTSTART;TZID=America/Chicago:20251117T190000
DTEND;TZID=America/Chicago:20251117T210000
DTSTAMP:20260425T062313
CREATED:20250609T150718Z
LAST-MODIFIED:20250702T181923Z
UID:10000204-1763406000-1763413200@chicagolandmgclub.com
SUMMARY:CMCG Monthly Club Meeting
DESCRIPTION:CMGC has regularly scheduled club meetings with presentations relating to the care and feeding of your car\, as well as other auto related topics. Third Monday of each month (except December – no meeting).
URL:https://chicagolandmgclub.com/event/cmcg-monthly-club-meeting/2025-11-17/
LOCATION:Mr. Beef and Pizza\, 1796 Elmhurst Rd.\, Mt. Prospect\, IL\, 60056\, United States
CATEGORIES:Monthly Club Meeting
ATTACH;FMTTYPE=image/png:https://chicagolandmgclub.com/wp-content/uploads/2022/03/CMGC-Logo-1A.png
END:VEVENT
BEGIN:VEVENT
DTSTART;TZID=America/Chicago:20251210T190000
DTEND;TZID=America/Chicago:20251210T220000
DTSTAMP:20260425T062313
CREATED:20230925T231850Z
LAST-MODIFIED:20240220T001403Z
UID:10000138-1765393200-1765404000@chicagolandmgclub.com
SUMMARY:Natter'n Noggin - North
DESCRIPTION:On the second Wednesday of each EVEN month we gather together in a more informal environment for Natter‘n Noggin\, a British term for a pint and a casual conversation. This offers a good opportunity for a relaxing gathering and a chance to chat with club members about MG’s and other topics.
URL:https://chicagolandmgclub.com/event/natter-n-noggin-north-2/2025-12-10/
LOCATION:Fox & Hound\, 1416 N Roselle Rd Unit 3032\, Schaumburg\, IL\, 60195\, United States
CATEGORIES:Natter'n Noggin
ATTACH;FMTTYPE=image/png:https://chicagolandmgclub.com/wp-content/uploads/2022/10/CLMGC-Green-logo-Banner.png
END:VEVENT
BEGIN:VEVENT
DTSTART;VALUE=DATE:20260116
DTEND;VALUE=DATE:20260119
DTSTAMP:20260425T062313
CREATED:20250105T140047Z
LAST-MODIFIED:20260108T163348Z
UID:10000019-1768521600-1768780799@chicagolandmgclub.com
SUMMARY:2026 Amtrak Road Trip\, Jan. 16th-18th
DESCRIPTION:All aboard the Amtrak (Blue Water) train. Leave the driving to Amtrak\, take a road trip with CMGC friends in January 2026.  \nAMTRAK Road Trip 2026  \nJanuary 16th – 18th\, 2026 \nFor 2026 we will be visiting a new destination\, Lansing\, Michigan. \nHome of the R. E. Olds Museum \nWe will be departing Chicago Union Station on Friday January 16th and returning Sunday January 18th. \nDetails for AMTRAK:      \nTrain # 364 (Blue Water) departs Chicago Union Station JAN 16th at 4:00 pm\, arriving at East Lansing at 8:55 pm. \nTrain # 365 (Blue Water) departs East Lansing JAN 18th at 8:54 am\, arriving back at Chicago Union Station at 11:45 am. \nPlan on meeting in the Union Station food concession area at 2:00 pm. \nFeel free to bring snacks\, appetizers and perhaps a beverage to enjoy on the ride to East Lansing. \nHotel: Double Tree by Hilton Lansing Michigan. 111 North Grand Ave\, Lansing\, Michigan \n(517) 267-3456. \nTo make reservations\, call 517-482-0188.  Each guest must identify themselves as part of the Chicagoland MG Club group and use code 92X.  Reservations need to be made before 12/17/2025 to receive the discounted rate of $134.00 per night before taxes. \nOn Saturday\, we will be visiting the R.E. Olds Museum that is about three blocks away from the hotel. Later\, we will head to Sidecar Slider Bar for food and drinks. \nRSVP Phil Wydra at PJW102@aol.com so we can have an accurate headcount. \nPlease return the the CMCG website for updates or December and January Drivelines as the departure date gets closer.
URL:https://chicagolandmgclub.com/event/amtrak-road-trip-2026/
LOCATION:IL
CATEGORIES:Non-Driving Events
ATTACH;FMTTYPE=image/jpeg:https://chicagolandmgclub.com/wp-content/uploads/2022/11/cq5dam.web_.900.450.jpeg
END:VEVENT
BEGIN:VEVENT
DTSTART;TZID=America/Chicago:20260119T190000
DTEND;TZID=America/Chicago:20260119T210000
DTSTAMP:20260425T062313
CREATED:20250609T150718Z
LAST-MODIFIED:20250702T181923Z
UID:10000205-1768849200-1768856400@chicagolandmgclub.com
SUMMARY:CMCG Monthly Club Meeting
DESCRIPTION:CMGC has regularly scheduled club meetings with presentations relating to the care and feeding of your car\, as well as other auto related topics. Third Monday of each month (except December – no meeting).
URL:https://chicagolandmgclub.com/event/cmcg-monthly-club-meeting/2026-01-19/
LOCATION:Mr. Beef and Pizza\, 1796 Elmhurst Rd.\, Mt. Prospect\, IL\, 60056\, United States
CATEGORIES:Monthly Club Meeting
ATTACH;FMTTYPE=image/png:https://chicagolandmgclub.com/wp-content/uploads/2022/03/CMGC-Logo-1A.png
END:VEVENT
END:VCALENDAR