BEGIN:VCALENDAR
VERSION:2.0
PRODID:-//Chicagoland MG Club - ECPv6.15.20//NONSGML v1.0//EN
CALSCALE:GREGORIAN
METHOD:PUBLISH
X-WR-CALNAME:Chicagoland MG Club
X-ORIGINAL-URL:https://chicagolandmgclub.com
X-WR-CALDESC:Events for Chicagoland MG Club
REFRESH-INTERVAL;VALUE=DURATION:PT1H
X-Robots-Tag:noindex
X-PUBLISHED-TTL:PT1H
BEGIN:VTIMEZONE
TZID:America/Chicago
BEGIN:DAYLIGHT
TZOFFSETFROM:-0600
TZOFFSETTO:-0500
TZNAME:CDT
DTSTART:20250309T080000
END:DAYLIGHT
BEGIN:STANDARD
TZOFFSETFROM:-0500
TZOFFSETTO:-0600
TZNAME:CST
DTSTART:20251102T070000
END:STANDARD
BEGIN:DAYLIGHT
TZOFFSETFROM:-0600
TZOFFSETTO:-0500
TZNAME:CDT
DTSTART:20260308T080000
END:DAYLIGHT
BEGIN:STANDARD
TZOFFSETFROM:-0500
TZOFFSETTO:-0600
TZNAME:CST
DTSTART:20261101T070000
END:STANDARD
BEGIN:DAYLIGHT
TZOFFSETFROM:-0600
TZOFFSETTO:-0500
TZNAME:CDT
DTSTART:20270314T080000
END:DAYLIGHT
BEGIN:STANDARD
TZOFFSETFROM:-0500
TZOFFSETTO:-0600
TZNAME:CST
DTSTART:20271107T070000
END:STANDARD
END:VTIMEZONE
BEGIN:VEVENT
DTSTART;TZID=America/Chicago:20260316T190000
DTEND;TZID=America/Chicago:20260316T210000
DTSTAMP:20260424T103657
CREATED:20250609T150718Z
LAST-MODIFIED:20250702T181923Z
UID:10000207-1773687600-1773694800@chicagolandmgclub.com
SUMMARY:CMCG Monthly Club Meeting
DESCRIPTION:CMGC has regularly scheduled club meetings with presentations relating to the care and feeding of your car\, as well as other auto related topics. Third Monday of each month (except December – no meeting).
URL:https://chicagolandmgclub.com/event/cmcg-monthly-club-meeting/2026-03-16/
LOCATION:Mr. Beef and Pizza\, 1796 Elmhurst Rd.\, Mt. Prospect\, IL\, 60056\, United States
CATEGORIES:Monthly Club Meeting
ATTACH;FMTTYPE=image/png:https://chicagolandmgclub.com/wp-content/uploads/2022/03/CMGC-Logo-1A.png
END:VEVENT
BEGIN:VEVENT
DTSTART;TZID=America/Chicago:20260408T190000
DTEND;TZID=America/Chicago:20260408T220000
DTSTAMP:20260424T103657
CREATED:20230925T231850Z
LAST-MODIFIED:20240220T001403Z
UID:10000140-1775674800-1775685600@chicagolandmgclub.com
SUMMARY:Natter'n Noggin - North
DESCRIPTION:On the second Wednesday of each EVEN month we gather together in a more informal environment for Natter‘n Noggin\, a British term for a pint and a casual conversation. This offers a good opportunity for a relaxing gathering and a chance to chat with club members about MG’s and other topics.
URL:https://chicagolandmgclub.com/event/natter-n-noggin-north-2/2026-04-08/
LOCATION:Fox & Hound\, 1416 N Roselle Rd Unit 3032\, Schaumburg\, IL\, 60195\, United States
CATEGORIES:Natter'n Noggin
ATTACH;FMTTYPE=image/png:https://chicagolandmgclub.com/wp-content/uploads/2022/10/CLMGC-Green-logo-Banner.png
END:VEVENT
BEGIN:VEVENT
DTSTART;TZID=America/Chicago:20260418T100000
DTEND;TZID=America/Chicago:20260418T100000
DTSTAMP:20260424T103657
CREATED:20260115T160051Z
LAST-MODIFIED:20260305T161453Z
UID:10000013-1776506400-1776506400@chicagolandmgclub.com
SUMMARY:2026 - CMGC Spring Tune Up\, April 18th
DESCRIPTION:CMGC members are invited to tune up your MG’s for the 2026 driving season. \n\nFor the 12th year we will meet at Don’s Auto Ade in Warrenville. Start time will be 10:00 am this year. This is your chance to change the motor oil\, radiator fluids\, check brakes and get a good look underneath your MG. This is a great opportunity to use the resources available to see if there are any issues to take care of before getting your MG on the road for 2025. Six service racks will be available for our use.\nThere is an Advance Auto Parts store nearby for any parts you might need and remember to bring your own fluids\, filters and other supplies. There will be plenty of members on hand to offer advice and assist. Sam from Don’s will be available to mount and balance tires\, including those on wire wheels\, and do alignments for a reasonable fee. If you need tires or batteries call ahead so that they can be ordered.\nCheck in with Dave “Cowboy” Bralich before starting any major projects. If you have time afterwards members will be gathering at a local restaurant nearby for food\, beverage and conversation.\n \n  \n 
URL:https://chicagolandmgclub.com/event/2026-spring-tune-up/
LOCATION:Don’s Auto Ade\, 2 S 781\, Illinois Rte. 59\, Warrenville\, IL\, 60555\, United States
CATEGORIES:Driving Events
ATTACH;FMTTYPE=image/png:https://chicagolandmgclub.com/wp-content/uploads/2021/12/2021-Spring-Tune-Up.png
ORGANIZER;CN="Event Organizer - Dave Bralich":MAILTO:dbralich@sbcglobal.net
END:VEVENT
BEGIN:VEVENT
DTSTART;TZID=America/Chicago:20260420T190000
DTEND;TZID=America/Chicago:20260420T210000
DTSTAMP:20260424T103657
CREATED:20250609T150718Z
LAST-MODIFIED:20250702T181923Z
UID:10000208-1776711600-1776718800@chicagolandmgclub.com
SUMMARY:CMCG Monthly Club Meeting
DESCRIPTION:CMGC has regularly scheduled club meetings with presentations relating to the care and feeding of your car\, as well as other auto related topics. Third Monday of each month (except December – no meeting).
URL:https://chicagolandmgclub.com/event/cmcg-monthly-club-meeting/2026-04-20/
LOCATION:Mr. Beef and Pizza\, 1796 Elmhurst Rd.\, Mt. Prospect\, IL\, 60056\, United States
CATEGORIES:Monthly Club Meeting
ATTACH;FMTTYPE=image/png:https://chicagolandmgclub.com/wp-content/uploads/2022/03/CMGC-Logo-1A.png
END:VEVENT
END:VCALENDAR