BEGIN:VCALENDAR
VERSION:2.0
PRODID:-//Chicagoland MG Club - ECPv6.15.20//NONSGML v1.0//EN
CALSCALE:GREGORIAN
METHOD:PUBLISH
X-WR-CALNAME:Chicagoland MG Club
X-ORIGINAL-URL:https://chicagolandmgclub.com
X-WR-CALDESC:Events for Chicagoland MG Club
REFRESH-INTERVAL;VALUE=DURATION:PT1H
X-Robots-Tag:noindex
X-PUBLISHED-TTL:PT1H
BEGIN:VTIMEZONE
TZID:America/Chicago
BEGIN:DAYLIGHT
TZOFFSETFROM:-0600
TZOFFSETTO:-0500
TZNAME:CDT
DTSTART:20240310T080000
END:DAYLIGHT
BEGIN:STANDARD
TZOFFSETFROM:-0500
TZOFFSETTO:-0600
TZNAME:CST
DTSTART:20241103T070000
END:STANDARD
BEGIN:DAYLIGHT
TZOFFSETFROM:-0600
TZOFFSETTO:-0500
TZNAME:CDT
DTSTART:20250309T080000
END:DAYLIGHT
BEGIN:STANDARD
TZOFFSETFROM:-0500
TZOFFSETTO:-0600
TZNAME:CST
DTSTART:20251102T070000
END:STANDARD
BEGIN:DAYLIGHT
TZOFFSETFROM:-0600
TZOFFSETTO:-0500
TZNAME:CDT
DTSTART:20260308T080000
END:DAYLIGHT
BEGIN:STANDARD
TZOFFSETFROM:-0500
TZOFFSETTO:-0600
TZNAME:CST
DTSTART:20261101T070000
END:STANDARD
END:VTIMEZONE
BEGIN:VEVENT
DTSTART;TZID=America/Chicago:20250813T190000
DTEND;TZID=America/Chicago:20250813T220000
DTSTAMP:20260424T125922
CREATED:20230925T231850Z
LAST-MODIFIED:20240220T001403Z
UID:10000136-1755111600-1755122400@chicagolandmgclub.com
SUMMARY:Natter'n Noggin - North
DESCRIPTION:On the second Wednesday of each EVEN month we gather together in a more informal environment for Natter‘n Noggin\, a British term for a pint and a casual conversation. This offers a good opportunity for a relaxing gathering and a chance to chat with club members about MG’s and other topics.
URL:https://chicagolandmgclub.com/event/natter-n-noggin-north-2/2025-08-13/
LOCATION:Fox & Hound\, 1416 N Roselle Rd Unit 3032\, Schaumburg\, IL\, 60195\, United States
CATEGORIES:Natter'n Noggin
ATTACH;FMTTYPE=image/png:https://chicagolandmgclub.com/wp-content/uploads/2022/10/CLMGC-Green-logo-Banner.png
END:VEVENT
BEGIN:VEVENT
DTSTART;TZID=America/Chicago:20250818T190000
DTEND;TZID=America/Chicago:20250818T210000
DTSTAMP:20260424T125922
CREATED:20250609T150718Z
LAST-MODIFIED:20250702T181923Z
UID:10000201-1755543600-1755550800@chicagolandmgclub.com
SUMMARY:CMCG Monthly Club Meeting
DESCRIPTION:CMGC has regularly scheduled club meetings with presentations relating to the care and feeding of your car\, as well as other auto related topics. Third Monday of each month (except December – no meeting).
URL:https://chicagolandmgclub.com/event/cmcg-monthly-club-meeting/2025-08-18/
LOCATION:Mr. Beef and Pizza\, 1796 Elmhurst Rd.\, Mt. Prospect\, IL\, 60056\, United States
CATEGORIES:Monthly Club Meeting
ATTACH;FMTTYPE=image/png:https://chicagolandmgclub.com/wp-content/uploads/2022/03/CMGC-Logo-1A.png
END:VEVENT
BEGIN:VEVENT
DTSTART;TZID=America/Chicago:20250821T163000
DTEND;TZID=America/Chicago:20250821T210000
DTSTAMP:20260424T125922
CREATED:20250407T013723Z
LAST-MODIFIED:20250725T183831Z
UID:10000085-1755793800-1755810000@chicagolandmgclub.com
SUMMARY:2025 - Westmont Cruisin' Night\, August 21st
DESCRIPTION:12th Annual Westmont Cruisin’ Nights & Street Fair\nFeaturing the Chicagoland MG Club & Vintage MG Car Club of Chicagoland \nThis is not your typical Cruisin’ Night.  Over 3\,000 people come weekly to enjoy not only the 225+ classic cars but also live music\, food\, drinks\, children activities and much more. The event is held in Downtown Westmont on Cass Avenue.  (Cass Avenue will be closed from Naperville/Chicago Ave. to Burlington to provide plenty of Classic Car parking)  Remember this is not a “Car Show” it’s a Cruisin’ Night & Street Fair open to all cars any condition. \nCars start arriving around 4:30. (Members traveling a distance and would like to avoid rush hour traffic are welcome to come early and park in the public lot north of Bill’s office.  All cars should enter the event at Norfolk and Cass.  Norfolk is 2 blocks north of Burlington Avenue and 1 block south of Naperville/Chicago Avenue.  If you are not able to arrive until later\, you are still welcome and can pull in any time during the event.  We will be parking all MG’s in front of Bill’s office just North of Norfolk (205 N Cass Ave.) \nIf you have not attended this event in the past\, this is the year to join in on the fun.  (this may be the last year for this event)  Come on out\, show off your car\, enjoy the company of other MG members & over 200 other beautiful cars\, but most of all relax and enjoy a beautiful evening.. \nCruise on in…..Have Some Fun….Enjoy The Cars…. \nA HEAD COUNT WILL NEED FOR PARKING AND FOOD \nPLEASE TEXT OR EMAIL RSVP TO BILL. \nTEXT – 630-816-4585\nEMAIL – bill@khrenovations.com    \n 
URL:https://chicagolandmgclub.com/event/2025-westmont-cruisin-night/
LOCATION:Downtown Westmont\, 205 N. Cass Ave\, Westmont\, IL\, 60559
CATEGORIES:Driving Events
ATTACH;FMTTYPE=image/png:https://chicagolandmgclub.com/wp-content/uploads/2023/03/wcn-wsl.png
ORGANIZER;CN="Event Organizer - Bill Kalafut & Jean Heasley":MAILTO:bill@khrenovations.com
END:VEVENT
END:VCALENDAR