BEGIN:VCALENDAR
VERSION:2.0
PRODID:-//Chicagoland MG Club - ECPv6.15.20//NONSGML v1.0//EN
CALSCALE:GREGORIAN
METHOD:PUBLISH
X-ORIGINAL-URL:https://chicagolandmgclub.com
X-WR-CALDESC:Events for Chicagoland MG Club
REFRESH-INTERVAL;VALUE=DURATION:PT1H
X-Robots-Tag:noindex
X-PUBLISHED-TTL:PT1H
BEGIN:VTIMEZONE
TZID:America/Chicago
BEGIN:DAYLIGHT
TZOFFSETFROM:-0600
TZOFFSETTO:-0500
TZNAME:CDT
DTSTART:20240310T080000
END:DAYLIGHT
BEGIN:STANDARD
TZOFFSETFROM:-0500
TZOFFSETTO:-0600
TZNAME:CST
DTSTART:20241103T070000
END:STANDARD
BEGIN:DAYLIGHT
TZOFFSETFROM:-0600
TZOFFSETTO:-0500
TZNAME:CDT
DTSTART:20250309T080000
END:DAYLIGHT
BEGIN:STANDARD
TZOFFSETFROM:-0500
TZOFFSETTO:-0600
TZNAME:CST
DTSTART:20251102T070000
END:STANDARD
BEGIN:DAYLIGHT
TZOFFSETFROM:-0600
TZOFFSETTO:-0500
TZNAME:CDT
DTSTART:20260308T080000
END:DAYLIGHT
BEGIN:STANDARD
TZOFFSETFROM:-0500
TZOFFSETTO:-0600
TZNAME:CST
DTSTART:20261101T070000
END:STANDARD
END:VTIMEZONE
BEGIN:VEVENT
DTSTART;TZID=America/Chicago:20250907T090000
DTEND;TZID=America/Chicago:20250907T150000
DTSTAMP:20260424T111845
CREATED:20250701T134449Z
LAST-MODIFIED:20250708T154835Z
UID:10000074-1757235600-1757257200@chicagolandmgclub.com
SUMMARY:2025 - 38th Annual British Car Festival\, September 7th
DESCRIPTION:With more than 250 beautiful cars\, this is one of the largest celebrations of British automotive design and engineering in the United States.  \nIn addition to the cars\, the festival features a variety of classic car parts vendors\, presentations\, tech workshops\, authentic British food and new car dealers showcasing the latest imports from Great Britain. \nAdmission for the general public is free\, with donations encouraged for Shelter\, Inc.\, which is a non-profit dedicated to providing community based\, emergency and longer-term housing for abused and neglected children. \nParticipant registration fee is $30 before August 25th\, $35 after and day of the festival. Prizes are awarded. \nYour can register: Register British Car Union\nThe British Car Festival is organized by the British Car Union\, which is a non-profit founded in 1986. It consists of representatives from 20 different Chicagoland British car clubs whose sole purpose is to coordinate the events critical to making the British Car Festival a success each September.
URL:https://chicagolandmgclub.com/event/2025-38th-annual-british-car-festival/
LOCATION:Harper College\, 1200 W Algonquin Rd\, Palatine\, IL\, 60067
CATEGORIES:Non-MG Club Events
ATTACH;FMTTYPE=application/pdf:https://chicagolandmgclub.com/wp-content/uploads/2025/02/BritishCarFest.pdf
ORGANIZER;CN="Event Organizer - Dave Bralich":MAILTO:dbralich@sbcglobal.net
END:VEVENT
BEGIN:VEVENT
DTSTART;TZID=America/Chicago:20250915T190000
DTEND;TZID=America/Chicago:20250915T210000
DTSTAMP:20260424T111845
CREATED:20250609T150718Z
LAST-MODIFIED:20250702T181923Z
UID:10000202-1757962800-1757970000@chicagolandmgclub.com
SUMMARY:CMCG Monthly Club Meeting
DESCRIPTION:CMGC has regularly scheduled club meetings with presentations relating to the care and feeding of your car\, as well as other auto related topics. Third Monday of each month (except December – no meeting).
URL:https://chicagolandmgclub.com/event/cmcg-monthly-club-meeting/2025-09-15/
LOCATION:Mr. Beef and Pizza\, 1796 Elmhurst Rd.\, Mt. Prospect\, IL\, 60056\, United States
CATEGORIES:Monthly Club Meeting
ATTACH;FMTTYPE=image/png:https://chicagolandmgclub.com/wp-content/uploads/2022/03/CMGC-Logo-1A.png
END:VEVENT
END:VCALENDAR