BEGIN:VCALENDAR
VERSION:2.0
PRODID:-//Chicagoland MG Club - ECPv6.15.20//NONSGML v1.0//EN
CALSCALE:GREGORIAN
METHOD:PUBLISH
X-WR-CALNAME:Chicagoland MG Club
X-ORIGINAL-URL:https://chicagolandmgclub.com
X-WR-CALDESC:Events for Chicagoland MG Club
REFRESH-INTERVAL;VALUE=DURATION:PT1H
X-Robots-Tag:noindex
X-PUBLISHED-TTL:PT1H
BEGIN:VTIMEZONE
TZID:America/Chicago
BEGIN:DAYLIGHT
TZOFFSETFROM:-0600
TZOFFSETTO:-0500
TZNAME:CDT
DTSTART:20240310T080000
END:DAYLIGHT
BEGIN:STANDARD
TZOFFSETFROM:-0500
TZOFFSETTO:-0600
TZNAME:CST
DTSTART:20241103T070000
END:STANDARD
BEGIN:DAYLIGHT
TZOFFSETFROM:-0600
TZOFFSETTO:-0500
TZNAME:CDT
DTSTART:20250309T080000
END:DAYLIGHT
BEGIN:STANDARD
TZOFFSETFROM:-0500
TZOFFSETTO:-0600
TZNAME:CST
DTSTART:20251102T070000
END:STANDARD
BEGIN:DAYLIGHT
TZOFFSETFROM:-0600
TZOFFSETTO:-0500
TZNAME:CDT
DTSTART:20260308T080000
END:DAYLIGHT
BEGIN:STANDARD
TZOFFSETFROM:-0500
TZOFFSETTO:-0600
TZNAME:CST
DTSTART:20261101T070000
END:STANDARD
END:VTIMEZONE
BEGIN:VEVENT
DTSTART;TZID=America/Chicago:20251005T104500
DTEND;TZID=America/Chicago:20251005T140000
DTSTAMP:20260424T093744
CREATED:20250701T195032Z
LAST-MODIFIED:20251004T174337Z
UID:10000178-1759661100-1759672800@chicagolandmgclub.com
SUMMARY:2025 - Apple Cider Run\, October 5th
DESCRIPTION:Apple Cider Run\, October 5th! \nCMCG members\, this is a casual Fall drive so you can enjoy the amazing fall colors on this ride!\nThis drive will take us to the All Seasons Orchard in Woodstock\, IL. Where you can snack on the delicious apple cider donuts\, drink fresh apple cider and enjoy many other apple products. You can also shop in the country store and purchase lots more cool stuff.\nMeeting Place:\nDunkin Donuts\n315 E Higgins Rd \nGilberts\, IL\n\nDriver Meeting 10:45 am\nDeparture 11:00 am\nEnding point:\nMoretti’s 2300\nBushwood Dr\,\nElgin\, IL\nPlease RSVP so we can firm up reservations for the restaurant after the drive. Last year the staff did a great job scrambling to find us chairs\, let’s make it easy on them.\nNOTE: WE ARE MAKINGT-SHIRTS FOR THE EVENT!\nOur target is $15 per shirt. The shirts will be gray with a new Apple Cider Run logo on the front and back.\nLet Rob or Sue know in advance if you want one. Cut off for orders is Sunday\, September 14th!!!!\nEmail or call or text Rob Costello with your shirt size asap!\nXS\, S\, M\, L\, XL\, 2XL\, 3XL\,4XL\nHosted by Rob and Sue Costello
URL:https://chicagolandmgclub.com/event/2025-apple-cider-run-october-5th/
LOCATION:Dunkin Donuts\, 315 E Higgins Rd\, Gilberts\, IL\, 60136
CATEGORIES:Driving Events
ATTACH;FMTTYPE=image/png:https://chicagolandmgclub.com/wp-content/uploads/2024/09/Capture.png
END:VEVENT
BEGIN:VEVENT
DTSTART;TZID=America/Chicago:20251008T190000
DTEND;TZID=America/Chicago:20251008T220000
DTSTAMP:20260424T093744
CREATED:20230925T231850Z
LAST-MODIFIED:20240220T001403Z
UID:10000137-1759950000-1759960800@chicagolandmgclub.com
SUMMARY:Natter'n Noggin - North
DESCRIPTION:On the second Wednesday of each EVEN month we gather together in a more informal environment for Natter‘n Noggin\, a British term for a pint and a casual conversation. This offers a good opportunity for a relaxing gathering and a chance to chat with club members about MG’s and other topics.
URL:https://chicagolandmgclub.com/event/natter-n-noggin-north-2/2025-10-08/
LOCATION:Fox & Hound\, 1416 N Roselle Rd Unit 3032\, Schaumburg\, IL\, 60195\, United States
CATEGORIES:Natter'n Noggin
ATTACH;FMTTYPE=image/png:https://chicagolandmgclub.com/wp-content/uploads/2022/10/CLMGC-Green-logo-Banner.png
END:VEVENT
BEGIN:VEVENT
DTSTART;TZID=America/Chicago:20251011T080000
DTEND;TZID=America/Chicago:20251011T080000
DTSTAMP:20260424T093744
CREATED:20250703T140017Z
LAST-MODIFIED:20250708T154550Z
UID:10000077-1760169600-1760169600@chicagolandmgclub.com
SUMMARY:2025 - Fall Triad Car Care Safety Clinic for Seniors\, Oct. 11th
DESCRIPTION:The safety clinic provides a free 40-point safety inspection of vehicles driven by senior citizens (ages 50 and older). \nChicagoland MG Club member Jim Vondran coordinates the Triad Car Safety Clinic each Spring and Autumn. The event grows each year as the Triad organization’s outreach to seniors continues to expand. Seniors are often subjected to unscrupulous mechanics who try to get the seniors to have unnecessary extra services. We rely heavenly on the club members to evaluate the seniors’ vehicles and advise them as to what may or may not need attention.\nVolunteers from the CMGC\, the Chicago area Model T Club and the Windy City Miata Club help in servicing and inspecting the vehicles. \nVintage and antique cars will again be on display: most are vehicles owned by our volunteer “car guys” who help preform the inspections. After their vehicles are inspected\, seniors are welcome to park their cars and view the “classic and vintage” vehicles. \nPlease contact Jim Vondran directly to affirm your participation as a team crew-member.\nPhone: 630-234-7102\nEmail: vondrangroup@aol.com \n*This is a non-sponsored CMGC event.
URL:https://chicagolandmgclub.com/event/2025-fall-triad-car-care-safety-clinic-for-seniors/
LOCATION:Venue: Lisle Township Maintenance Building – Lisle\, IL\, 4719 Indiana Ave\, Lisle\, IL\, 60532
CATEGORIES:Non-Driving Events
ATTACH;FMTTYPE=image/png:https://chicagolandmgclub.com/wp-content/uploads/2021/12/Capture.png
ORGANIZER;CN="Event Organizer - Jim Vondran":MAILTO:vondrangroup@aol.com
END:VEVENT
BEGIN:VEVENT
DTSTART;TZID=America/Chicago:20251020T190000
DTEND;TZID=America/Chicago:20251020T210000
DTSTAMP:20260424T093744
CREATED:20250609T150718Z
LAST-MODIFIED:20250702T181923Z
UID:10000203-1760986800-1760994000@chicagolandmgclub.com
SUMMARY:CMCG Monthly Club Meeting
DESCRIPTION:CMGC has regularly scheduled club meetings with presentations relating to the care and feeding of your car\, as well as other auto related topics. Third Monday of each month (except December – no meeting).
URL:https://chicagolandmgclub.com/event/cmcg-monthly-club-meeting/2025-10-20/
LOCATION:Mr. Beef and Pizza\, 1796 Elmhurst Rd.\, Mt. Prospect\, IL\, 60056\, United States
CATEGORIES:Monthly Club Meeting
ATTACH;FMTTYPE=image/png:https://chicagolandmgclub.com/wp-content/uploads/2022/03/CMGC-Logo-1A.png
END:VEVENT
END:VCALENDAR