BEGIN:VCALENDAR
VERSION:2.0
PRODID:-//Chicagoland MG Club - ECPv6.15.20//NONSGML v1.0//EN
CALSCALE:GREGORIAN
METHOD:PUBLISH
X-WR-CALNAME:Chicagoland MG Club
X-ORIGINAL-URL:https://chicagolandmgclub.com
X-WR-CALDESC:Events for Chicagoland MG Club
REFRESH-INTERVAL;VALUE=DURATION:PT1H
X-Robots-Tag:noindex
X-PUBLISHED-TTL:PT1H
BEGIN:VTIMEZONE
TZID:America/Chicago
BEGIN:DAYLIGHT
TZOFFSETFROM:-0600
TZOFFSETTO:-0500
TZNAME:CDT
DTSTART:20250309T080000
END:DAYLIGHT
BEGIN:STANDARD
TZOFFSETFROM:-0500
TZOFFSETTO:-0600
TZNAME:CST
DTSTART:20251102T070000
END:STANDARD
BEGIN:DAYLIGHT
TZOFFSETFROM:-0600
TZOFFSETTO:-0500
TZNAME:CDT
DTSTART:20260308T080000
END:DAYLIGHT
BEGIN:STANDARD
TZOFFSETFROM:-0500
TZOFFSETTO:-0600
TZNAME:CST
DTSTART:20261101T070000
END:STANDARD
BEGIN:DAYLIGHT
TZOFFSETFROM:-0600
TZOFFSETTO:-0500
TZNAME:CDT
DTSTART:20270314T080000
END:DAYLIGHT
BEGIN:STANDARD
TZOFFSETFROM:-0500
TZOFFSETTO:-0600
TZNAME:CST
DTSTART:20271107T070000
END:STANDARD
END:VTIMEZONE
BEGIN:VEVENT
DTSTART;TZID=America/Chicago:20260509T080000
DTEND;TZID=America/Chicago:20260509T120000
DTSTAMP:20260423T071450
CREATED:20260126T160057Z
LAST-MODIFIED:20260305T161341Z
UID:10000014-1778313600-1778328000@chicagolandmgclub.com
SUMMARY:2026 Spring - Triad Car Care Safety Clinic for Seniors\, May 9th
DESCRIPTION:The safety clinic provides a free 40-point safety inspection of vehicles driven by senior citizens (ages 50 and older). \nChicagoland MG Club member Jim Vondran coordinates the Triad car safety clinic each Spring and Autumn. The event grows each year as the Triad organization’s outreach to seniors continues to expand. Seniors are often subjected to unscrupulous mechanics who try to get the seniors to have unnecessary extra services. We rely heavenly on the club members to evaluate the seniors’ vehicles and advise them as to what may or may not need attention.\nVolunteers from the CMGC\, the Chicago area Model T Club and the Windy City Miata Club help in servicing and inspecting the vehicles. \nVintage and antique cars will again be on display: most are vehicles owned by our volunteer “car guys” who help preform the inspections. After their vehicles are inspected\, seniors are welcome to park their cars and view the “classic and vintage” vehicles. \nPlease contact Jim Vondran directly to affirm your participation as a team crew-member.\nPhone: 630-234-7102\nEmail: vondrangroup@aol.com \n*This is a non-sponsored CMGC event.
URL:https://chicagolandmgclub.com/event/2026-spring-car-care-safety-clinic-for-seniors/
LOCATION:Venue: Lisle Township Maintenance Building – Lisle\, IL\, 4719 Indiana Ave\, Lisle\, IL\, 60532
CATEGORIES:Non-Driving Events
ATTACH;FMTTYPE=image/png:https://chicagolandmgclub.com/wp-content/uploads/2021/12/Capture.png
ORGANIZER;CN="Event Organizer - Jim Vondran":MAILTO:vondrangroup@aol.com
END:VEVENT
BEGIN:VEVENT
DTSTART;TZID=America/Chicago:20260517T100000
DTEND;TZID=America/Chicago:20260517T150000
DTSTAMP:20260423T071451
CREATED:20260126T185940Z
LAST-MODIFIED:20260403T203210Z
UID:10000012-1779012000-1779030000@chicagolandmgclub.com
SUMMARY:2026 - Spring Chicken Run Rally\, May 17th
DESCRIPTION:Spring Chicken Run Rally\, May 17th \nWe are so excited. It is almost time for the Spring Chicken Run. Henny and Penny will be on the road with us again.\nWhen: Sunday\, May 17\, 2026 \nLocation: Meet at the McDonalds\, 40W225 Route 64 in Campton Hills/St. Charles\, IL \n(Rte. 64 and LaFox/Burlington Rds.) \nTime: 10:00am to sign in and received the handouts (driver’s meeting at 10:30am) \nRSVP is required: Ray and Sue Hansen by Friday\, May 15\, rayandsue156@comcast.net \nor text Ray at 847-471-0462 \n (RSVP is required to have an accurate count for the restaurant and to prepare enough copies of the route.)
URL:https://chicagolandmgclub.com/event/2026-spring-chicken-run/
LOCATION:McDonalds – Compton Hills/St Charles\, 40w225 Il Route 64\, Campton Hills\, IL\, 60175
CATEGORIES:Driving Events
ATTACH;FMTTYPE=image/png:https://chicagolandmgclub.com/wp-content/uploads/2025/04/Spring-Chicken-Run-1.png
ORGANIZER;CN="Event Organizer - Ray & Sue Hansen":MAILTO:rayandsue156@comcast.net
END:VEVENT
BEGIN:VEVENT
DTSTART;TZID=America/Chicago:20260518T190000
DTEND;TZID=America/Chicago:20260518T210000
DTSTAMP:20260423T071451
CREATED:20250609T150718Z
LAST-MODIFIED:20250702T181923Z
UID:10000209-1779130800-1779138000@chicagolandmgclub.com
SUMMARY:CMCG Monthly Club Meeting
DESCRIPTION:CMGC has regularly scheduled club meetings with presentations relating to the care and feeding of your car\, as well as other auto related topics. Third Monday of each month (except December – no meeting).
URL:https://chicagolandmgclub.com/event/cmcg-monthly-club-meeting/2026-05-18/
LOCATION:Mr. Beef and Pizza\, 1796 Elmhurst Rd.\, Mt. Prospect\, IL\, 60056\, United States
CATEGORIES:Monthly Club Meeting
ATTACH;FMTTYPE=image/png:https://chicagolandmgclub.com/wp-content/uploads/2022/03/CMGC-Logo-1A.png
END:VEVENT
END:VCALENDAR