BEGIN:VCALENDAR
VERSION:2.0
PRODID:-//Chicagoland MG Club - ECPv6.15.20//NONSGML v1.0//EN
CALSCALE:GREGORIAN
METHOD:PUBLISH
X-WR-CALNAME:Chicagoland MG Club
X-ORIGINAL-URL:https://chicagolandmgclub.com
X-WR-CALDESC:Events for Chicagoland MG Club
REFRESH-INTERVAL;VALUE=DURATION:PT1H
X-Robots-Tag:noindex
X-PUBLISHED-TTL:PT1H
BEGIN:VTIMEZONE
TZID:America/Chicago
BEGIN:DAYLIGHT
TZOFFSETFROM:-0600
TZOFFSETTO:-0500
TZNAME:CDT
DTSTART:20220313T080000
END:DAYLIGHT
BEGIN:STANDARD
TZOFFSETFROM:-0500
TZOFFSETTO:-0600
TZNAME:CST
DTSTART:20221106T070000
END:STANDARD
BEGIN:DAYLIGHT
TZOFFSETFROM:-0600
TZOFFSETTO:-0500
TZNAME:CDT
DTSTART:20230312T080000
END:DAYLIGHT
BEGIN:STANDARD
TZOFFSETFROM:-0500
TZOFFSETTO:-0600
TZNAME:CST
DTSTART:20231105T070000
END:STANDARD
BEGIN:DAYLIGHT
TZOFFSETFROM:-0600
TZOFFSETTO:-0500
TZNAME:CDT
DTSTART:20240310T080000
END:DAYLIGHT
BEGIN:STANDARD
TZOFFSETFROM:-0500
TZOFFSETTO:-0600
TZNAME:CST
DTSTART:20241103T070000
END:STANDARD
BEGIN:DAYLIGHT
TZOFFSETFROM:-0600
TZOFFSETTO:-0500
TZNAME:CDT
DTSTART:20250309T080000
END:DAYLIGHT
BEGIN:STANDARD
TZOFFSETFROM:-0500
TZOFFSETTO:-0600
TZNAME:CST
DTSTART:20251102T070000
END:STANDARD
BEGIN:DAYLIGHT
TZOFFSETFROM:-0600
TZOFFSETTO:-0500
TZNAME:CDT
DTSTART:20260308T080000
END:DAYLIGHT
BEGIN:STANDARD
TZOFFSETFROM:-0500
TZOFFSETTO:-0600
TZNAME:CST
DTSTART:20261101T070000
END:STANDARD
END:VTIMEZONE
BEGIN:VEVENT
DTSTART;TZID=America/Chicago:20250308T120000
DTEND;TZID=America/Chicago:20250308T120000
DTSTAMP:20260423T221028
CREATED:20241224T162024Z
LAST-MODIFIED:20250220T154532Z
UID:10000069-1741435200-1741435200@chicagolandmgclub.com
SUMMARY:2024 CMGC & VMGCCC Annual MG Awards Banquet\, March 8th
DESCRIPTION:The Chicagoland MG Club – Annual Awards Banquet.  \nAll CMGC and VMGCC members are invited to celebrate the 2024 Driving Season – and to launch the 2025 Driving Season. Weather permitting – DRIVE YOUR MG!\n \nLuncheon – Club & Driving Event Awards – and maybe…one or two Surprises!!  \nFamily Style Menu:\nServed with Freshly Baked Bread\, Coffee\, Hot / Cold Tea\, Assorted Soda\nFirst Course:  Caesar Salad: Truffle & Honey Whopped Ricotta: Crab Cakes\nSecond Course:  Spaghetti Marinara: Chicken & Spinach Manicotti: Beef Medallions in Balsamic Cream Sauce: Garlic Mashed Potatoes\nThird Course (Desserts): Gigi’s Butter Cake: Vera’s Lemon Cookies \n$42 per person; Cash bar \nCOMPLETE THIS FORM AND RETURN WITH A CHECK PAYABLE TO CMGC – BY MONDAY\, MARCH 3rd 2025\nSEND  TO:\nChicagoland MG Club\nP.O. Box 455\nAddison\, Illinois 60101\n2024 MG AWARDS BANQUET (Form)\nClick on the link above to download the form
URL:https://chicagolandmgclub.com/event/cmgc-vmgccc-annual-mg-awards-banquet-for-2024/
LOCATION:Maggiano’s Little Italy\, 240 Oak Brook Center\, Oakbrook\, IL\, 60523\, United States
CATEGORIES:Special Event
ATTACH;FMTTYPE=image/jpeg:https://chicagolandmgclub.com/wp-content/uploads/2022/01/msr.jpg
END:VEVENT
BEGIN:VEVENT
DTSTART;TZID=America/Chicago:20240825T100000
DTEND;TZID=America/Chicago:20240825T160000
DTSTAMP:20260423T221028
CREATED:20240405T153917Z
LAST-MODIFIED:20240723T193618Z
UID:10000176-1724580000-1724601600@chicagolandmgclub.com
SUMMARY:2024 - Geneva Concours - Featured Marque: "All Things Morris Garages" - MG\, August 25th
DESCRIPTION:2024 Geneva Concours d’Elegance \nClassic Car enthusiasts will gather together again this year in Geneva\, Illinois and view a beautiful collection of antique\, classic and modern automobiles. \nSINCE MG IS ONE OF THE FEATURED MARQUES AMONG THE INVITED DISPLAYERS OF CONCOURS CARS\, IT COULD BE APPROPRIATE THAT MG CLUB MEMBERS ATTEND WITH THEIR MG’S PARKED IN THE DESIGNATED CLUB AREA. \nBelow a link to the application form. \nGC – Club Members Parking Registration Form \nIt can also be found at: \n2024 Geneva Concours d’Elegance  \nRegistrations need to be postmarked by 8/12. \nRESERVED PARKING FOR CAR CLUBS AVAILABLE (REGISTRATION NEEDED)\n \n 
URL:https://chicagolandmgclub.com/event/2024-geneva-concours-featured-marque-all-things-morris-garages-mg/
LOCATION:Geneva Concours d’Elegance\, Kane County Courthouse - 100 S. Main St.\, Geneva\, IL\, 60134\, United States
CATEGORIES:Driving Events
ATTACH;FMTTYPE=image/jpeg:https://chicagolandmgclub.com/wp-content/uploads/2024/03/1930-MG-M-type-1200-426-copy.jpg
END:VEVENT
BEGIN:VEVENT
DTSTART;TZID=America/Chicago:20240427T121500
DTEND;TZID=America/Chicago:20240427T160000
DTSTAMP:20260423T221028
CREATED:20240111T184324Z
LAST-MODIFIED:20240415T163156Z
UID:10000159-1714220100-1714233600@chicagolandmgclub.com
SUMMARY:2024 - The MG Tweed Tour\, April 27th
DESCRIPTION:A seasoned veteran in putting together original and unique driving events. Doug Clark is organizing yet another “themed” driving tour. \nDrivers meeting:12:15 PM\nStart: 12:30 PM\nStart Location: Starbucks – West side of Route 59\, north of 95th St. (Naperville Crossings shopping center)\nWe will drive our MGs in tweed attire (jackets / vests / pants / caps)\, to help keep warm\, especially if the temperatures are cool – and if our heaters don’t work well.\n(The group picture could look rather interesting…)\nWe’ll drive country roads in Kane and Kendall counties (about 40 miles)\, before arriving at the Edith Farnsworth House for a 2:00 tour of residential glass pavilion designed by Ludwig Mies van der Rohe\, a pioneer of modern architecture\, a notable architectural gem. \nThe total time of the tour will be about 90 minutes.\nA block of tickets\, set aside for us\, for  the 2:00 tour of the Farnsworth House is on their website per the below link:\nFarnsworth House Tour Tickets\nThe admission charge is $30 per person\, plus a $1.80 online charge. Tickets need to be bought in advance\, online. After April 20th\, unsold tickets in the ticket block will be released. (It still could be possible to buy them through the website.)\nWe will arrive in the car park which is close to the Visitors Center. Golf carts are available for transport from the Visitor Center to the House (½ mile). Advance notice is needed for this.\nSee the the Farnsworth House website for more information on the House and the grounds.\nSafety Fast\nP.S. RSVP for driving on the Tweed Tour to mgtbc@sbcglobal.net and via the CMGC website RSVP link below – (whether or not you’re going on the House Tour).\nP.P.S. For those NOT going on the House Tour\, restaurant suggestions for lunch (in Plano – due north\, or Yorkville – due east will be provided.
URL:https://chicagolandmgclub.com/event/2024-the-mg-tweed-tour/
LOCATION:Starbucks – Naperville Crossing Shopping Cener\, 2936 Showplace Dr #120\, Naperville\, IL\, 60564
CATEGORIES:Driving Events
ATTACH;FMTTYPE=image/jpeg:https://chicagolandmgclub.com/wp-content/uploads/2024/02/tt3.jpg
END:VEVENT
BEGIN:VEVENT
DTSTART;TZID=America/Chicago:20231007T120000
DTEND;TZID=America/Chicago:20231007T120000
DTSTAMP:20260423T221028
CREATED:20230801T152411Z
LAST-MODIFIED:20231011T141707Z
UID:10000086-1696680000-1696680000@chicagolandmgclub.com
SUMMARY:2023 - Fox (River) Hunt\, October 7th
DESCRIPTION:“A-Hunting We Will Go!” (MG’s\, that is!) \nCMGC & VMGCC members are encouraged to drive our LBC’s on a fall afternoon for a couple of hours on country roads near the lower Fox River. \nBefore we start “hunting”\, feel free to have lunch at noon at Gray’s Mill Estate in Montgomery\, and spend some time looking around this former mill that has been converted into a restaurant and bar. If the weather is decent\, we can eat seated on the deck that overlooks the river. \nNavigators are strongly encouraged. Why not bring a guest – especially a younger one\, so that we can introduce them to the pleasures of vintage British sports cars. \nWe’ll start along the (Fox) River\, and we’ll end up along the (Illinois) River – at the Dockside Bar and Grill in Ottawa. \nOn route well be several historical sites – either for a brief stop along the way\, or for a longer stop afterwards. \nBring a jacket\, and folding chairs\, as we might want to sit outside (weather permitting) at the end of the Hunt. \nLunch at 12 noon at the historic:\nGray’s Mill Estate\n211 N. River St. in Montgomery\, IL \nDrivers Meeting @ 1:30 pm \nRSVP by Tuesday October 3rd to Doug Clark – mgtbc@sbcglobal.net  \nLooking forward to the adventure! \nThis is a… A DougClark Production\n“Anything Worth Doing\, Is Worth Getting Carried Away With”
URL:https://chicagolandmgclub.com/event/oct-2023-october-7th/
LOCATION:Gray’s Mill Estate\, 211 N. River St.\, Montgomery\, IL\, 60538
CATEGORIES:Autocross,Driving Events,Natter'n Noggin
ATTACH;FMTTYPE=image/png:https://chicagolandmgclub.com/wp-content/uploads/2023/09/FRH4-e1695139860996.png
END:VEVENT
BEGIN:VEVENT
DTSTART;TZID=America/Chicago:20230715T160000
DTEND;TZID=America/Chicago:20230715T210000
DTSTAMP:20260423T221028
CREATED:20230519T152714Z
LAST-MODIFIED:20230717T141010Z
UID:10000088-1689436800-1689454800@chicagolandmgclub.com
SUMMARY:2023 - MG's in Lombard Cruise Night and Summer Concert\, July 15th
DESCRIPTION:CMGC and VMGCC members are invited to drive our MGs to downtown Lombard \n\n Participate in this Cruise Night display of cars – and to enjoy the music of Soul Sacrifice\, a Santana tribute band.  \nSo that we’ll be able to park together\, we’ll gather at 4:00 p.m. in the Fifth Third Bank parking lot\, which can be entered from Lincoln St. (two blocks west of Main St.) on the south side of St. Charles Rd. Once parked\, sign the waiver form\, receive your dash plaque\, and either tailgate or stroll through the downtown business district to see the other cars and to support the nearby establishments that sell food and drink.  \nBRING A LAWN CHAIR! Set it on the street or sidewalk in front of the Main St. stage and listen to the music\, which starts at 6:00 p.m.\, while you eat and drink what you have bought locally (or what you have brought from home). \nPlease RSVP (mgtbc@sbcglobal.net) by Fri. 14 July so we know how many cars that can be\nexpected. \nSafety Fast & Rock On!
URL:https://chicagolandmgclub.com/event/2023-mgs-in-lombard-cruise-night-and-summer-concert/
LOCATION:Village of Lombard – Downtown\, S. Park Ave.\, Lombard\, IL\, 60148
END:VEVENT
END:VCALENDAR