BEGIN:VCALENDAR
VERSION:2.0
PRODID:-//Chicagoland MG Club - ECPv6.15.20//NONSGML v1.0//EN
CALSCALE:GREGORIAN
METHOD:PUBLISH
X-ORIGINAL-URL:https://chicagolandmgclub.com
X-WR-CALDESC:Events for Chicagoland MG Club
REFRESH-INTERVAL;VALUE=DURATION:PT1H
X-Robots-Tag:noindex
X-PUBLISHED-TTL:PT1H
BEGIN:VTIMEZONE
TZID:America/Chicago
BEGIN:DAYLIGHT
TZOFFSETFROM:-0600
TZOFFSETTO:-0500
TZNAME:CDT
DTSTART:20220313T080000
END:DAYLIGHT
BEGIN:STANDARD
TZOFFSETFROM:-0500
TZOFFSETTO:-0600
TZNAME:CST
DTSTART:20221106T070000
END:STANDARD
BEGIN:DAYLIGHT
TZOFFSETFROM:-0600
TZOFFSETTO:-0500
TZNAME:CDT
DTSTART:20230312T080000
END:DAYLIGHT
BEGIN:STANDARD
TZOFFSETFROM:-0500
TZOFFSETTO:-0600
TZNAME:CST
DTSTART:20231105T070000
END:STANDARD
BEGIN:DAYLIGHT
TZOFFSETFROM:-0600
TZOFFSETTO:-0500
TZNAME:CDT
DTSTART:20240310T080000
END:DAYLIGHT
BEGIN:STANDARD
TZOFFSETFROM:-0500
TZOFFSETTO:-0600
TZNAME:CST
DTSTART:20241103T070000
END:STANDARD
END:VTIMEZONE
BEGIN:VEVENT
DTSTART;TZID=America/Chicago:20230701T130000
DTEND;TZID=America/Chicago:20230701T130000
DTSTAMP:20260424T051928
CREATED:20230606T153315Z
LAST-MODIFIED:20230704T134044Z
UID:10000089-1688216400-1688216400@chicagolandmgclub.com
SUMMARY:2023 British Boots and Bonnets a D&C Gathering\, July 1st
DESCRIPTION:Food\, Fun and Beautiful British cars:	 \nBritish Boots and Bonnets are inviting our club members to their country house that sits on many acres\, there are 3 barns full of MG and other British cars and parts. Super interesting to see\, what is required is to have a good drive and a good time – we will meet other members from other surrounding clubs within the Midwest region.\nBring a chair\, bring something to share and overall just a good time. \nRSVP: Please let me know if you will be attending\, that way I can give Crystal and Dennis a headcount. No later than June 25 if possible.  \nSee you all there!
URL:https://chicagolandmgclub.com/event/2023-dc-gathering/
LOCATION:D&C Acers\, 2702 S. Wyatt Rd\, Orfordville\, 53576\, United States
CATEGORIES:Non-MG Club Events
ATTACH;FMTTYPE=image/jpeg:https://chicagolandmgclub.com/wp-content/uploads/2021/12/20210523_121334-scaled.jpg
END:VEVENT
END:VCALENDAR