BEGIN:VCALENDAR
VERSION:2.0
PRODID:-//Chicagoland MG Club - ECPv6.15.20//NONSGML v1.0//EN
CALSCALE:GREGORIAN
METHOD:PUBLISH
X-WR-CALNAME:Chicagoland MG Club
X-ORIGINAL-URL:https://chicagolandmgclub.com
X-WR-CALDESC:Events for Chicagoland MG Club
REFRESH-INTERVAL;VALUE=DURATION:PT1H
X-Robots-Tag:noindex
X-PUBLISHED-TTL:PT1H
BEGIN:VTIMEZONE
TZID:America/Chicago
BEGIN:DAYLIGHT
TZOFFSETFROM:-0600
TZOFFSETTO:-0500
TZNAME:CDT
DTSTART:20230312T080000
END:DAYLIGHT
BEGIN:STANDARD
TZOFFSETFROM:-0500
TZOFFSETTO:-0600
TZNAME:CST
DTSTART:20231105T070000
END:STANDARD
BEGIN:DAYLIGHT
TZOFFSETFROM:-0600
TZOFFSETTO:-0500
TZNAME:CDT
DTSTART:20240310T080000
END:DAYLIGHT
BEGIN:STANDARD
TZOFFSETFROM:-0500
TZOFFSETTO:-0600
TZNAME:CST
DTSTART:20241103T070000
END:STANDARD
BEGIN:DAYLIGHT
TZOFFSETFROM:-0600
TZOFFSETTO:-0500
TZNAME:CDT
DTSTART:20250309T080000
END:DAYLIGHT
BEGIN:STANDARD
TZOFFSETFROM:-0500
TZOFFSETTO:-0600
TZNAME:CST
DTSTART:20251102T070000
END:STANDARD
END:VTIMEZONE
BEGIN:VEVENT
DTSTART;VALUE=DATE:20240913
DTEND;VALUE=DATE:20240916
DTSTAMP:20260424T000048
CREATED:20240702T030417Z
LAST-MODIFIED:20240723T204750Z
UID:10000075-1726185600-1726444799@chicagolandmgclub.com
SUMMARY:2024 - Wine\, Cheese & Beer Tour\, (WCB)   Sept.13-15th
DESCRIPTION:This is a RSVP event\, if you plan to attend please RSVP.\nGreetings Follow MG Enthusiasts!\n \nThe Chicagoland MG Club’s Wine\, Cheese & Beer Tour will occur the weekend of September 13 – 15. \nMark you calendar for this fun and adventurous weekend tour. Our WCBT veterans know this but if you are a relatively new member\, it is a great way to get to know your fellow CMGC friends even better. \nFriday\, Sept 13\nHoliday Inn Express Loves Park\n7552 Park Place\nLoves Park IL\, 61111\n(815) 654-4100\nGROUP CODE: CMG\nHoliday Inn Express – Loves Park\, IL \nSaturday\, Sept 14\nDeparture time from Loves Park is still to be determined (estimate by 9:30).\nIf you plan to join us on Saturday morning\, be at the Holiday Inn Express – Loves Park\, IL no later than 8:30 AM. \nThe Tour will be heading south and west then north\, to lunch in Savanna\, IL.\nWe will end the day (by mid-afternoon) in Le Claire\, Iowa with plenty of time to relax\,walk the town\, shop\, and explore the hometown of “American Pickers”. \nDinner will be at the Crane & Pelican Cafe. 127 S 2nd St\, Le Claire\, IA 52753\n \nThe 2nd night hotel is: \nHoliday Inn Express \n1201 Canal Shore Drive\nLe Claire\, Iowa\, 52753 (right on the edge of the Mississippi River)\nGROUP CODE: EG1\nHoliday Inn Express – La Claire\, IA\n \nSunday\, Sept 15\nThe Tour continues with the most amazing roads in NW Illinois! We will conclude the Tour with lunch in Elizabeth\, IL. This is on US Route 20 and everyone will determine their own way home. \nPlease reserve your hotel rooms As Soon As Possible! We have a block of rooms at each hotel with that reservation expiring in\nmid-August. \nRSVP MUST be emailed to the event organizers. \nPlease contact: \nRalph Arata @ 423-884-2831 arataralph13@gmail.com \nRuss Mehaffey @ 847-877-1925 r.mehaffey@sbcglobal.net. \nNOTE: Don’t forget to bring lawn chairs for the Friday and Saturday “outside” socials.
URL:https://chicagolandmgclub.com/event/2024-wine-cheese-beer-tour/
CATEGORIES:Driving Events
ATTACH;FMTTYPE=image/png:https://chicagolandmgclub.com/wp-content/uploads/2022/10/CLMGC-Green-logo-Banner.png
ORGANIZER;CN="Event Organizer - Russ  & Amy Mehaffey":MAILTO:RussAmy57MGA@hotmail.com
END:VEVENT
END:VCALENDAR