BEGIN:VCALENDAR
VERSION:2.0
PRODID:-//Chicagoland MG Club - ECPv6.15.20//NONSGML v1.0//EN
CALSCALE:GREGORIAN
METHOD:PUBLISH
X-ORIGINAL-URL:https://chicagolandmgclub.com
X-WR-CALDESC:Events for Chicagoland MG Club
REFRESH-INTERVAL;VALUE=DURATION:PT1H
X-Robots-Tag:noindex
X-PUBLISHED-TTL:PT1H
BEGIN:VTIMEZONE
TZID:America/Chicago
BEGIN:DAYLIGHT
TZOFFSETFROM:-0600
TZOFFSETTO:-0500
TZNAME:CDT
DTSTART:20230312T080000
END:DAYLIGHT
BEGIN:STANDARD
TZOFFSETFROM:-0500
TZOFFSETTO:-0600
TZNAME:CST
DTSTART:20231105T070000
END:STANDARD
BEGIN:DAYLIGHT
TZOFFSETFROM:-0600
TZOFFSETTO:-0500
TZNAME:CDT
DTSTART:20240310T080000
END:DAYLIGHT
BEGIN:STANDARD
TZOFFSETFROM:-0500
TZOFFSETTO:-0600
TZNAME:CST
DTSTART:20241103T070000
END:STANDARD
BEGIN:DAYLIGHT
TZOFFSETFROM:-0600
TZOFFSETTO:-0500
TZNAME:CDT
DTSTART:20250309T080000
END:DAYLIGHT
BEGIN:STANDARD
TZOFFSETFROM:-0500
TZOFFSETTO:-0600
TZNAME:CST
DTSTART:20251102T070000
END:STANDARD
END:VTIMEZONE
BEGIN:VEVENT
DTSTART;TZID=America/Chicago:20240728T103000
DTEND;TZID=America/Chicago:20240728T133000
DTSTAMP:20260423T222527
CREATED:20240403T032317Z
LAST-MODIFIED:20240605T165828Z
UID:10000082-1722162600-1722173400@chicagolandmgclub.com
SUMMARY:2024 - Hot Dog Poker Run Rally\, July 28th
DESCRIPTION:Hot diggity dog\, time to get your poker  face on and join the CMGC on its third annual Hot Dog Poker Run!  \nParticipants will zip through country roads and enjoy the sites driving a set route while answering some not too difficult questions. On departure\, each car will receive playing cards. Additional cards will be dispensed at stops along the way. The final cards will be given when the participants turn in their score sheet. The car with the most correct answers wins the rally. The car with the best poker hand wins the poker run. \nThe route will consist of about 60-miles through Cook\, McHenry and Lake Counties lasting around two hours. Final destination is Superdawg 333 S Milwaukee Ave\, Wheeling. If hot dogs aren’t your thing\, check out the other delicious items they have to offer \nStarting location: Panera Bread at the Arboretum Shopping Center RT 59 and Rt 72 in South Barrington. Next to L.L. Bean. \nDriver’s meeting: 10:30\nDepart: 11:00 \nQuestions: Contact Phil Wydra at 224-622-5340\nSandy Wydra at 773-320-7484
URL:https://chicagolandmgclub.com/event/hot-dog-poker-run/
LOCATION:Panera Bread – Arboretum Shopping Center\, 100 West Higgins Road at Route 59 and 72\,\, South Barrington\, IL\, 60010\, United States
CATEGORIES:Driving Events
ATTACH;FMTTYPE=image/png:https://chicagolandmgclub.com/wp-content/uploads/2024/04/Capture-2.png
END:VEVENT
END:VCALENDAR