BEGIN:VCALENDAR
VERSION:2.0
PRODID:-//Chicagoland MG Club - ECPv6.15.20//NONSGML v1.0//EN
CALSCALE:GREGORIAN
METHOD:PUBLISH
X-ORIGINAL-URL:https://chicagolandmgclub.com
X-WR-CALDESC:Events for Chicagoland MG Club
REFRESH-INTERVAL;VALUE=DURATION:PT1H
X-Robots-Tag:noindex
X-PUBLISHED-TTL:PT1H
BEGIN:VTIMEZONE
TZID:America/Chicago
BEGIN:DAYLIGHT
TZOFFSETFROM:-0600
TZOFFSETTO:-0500
TZNAME:CDT
DTSTART:20220313T080000
END:DAYLIGHT
BEGIN:STANDARD
TZOFFSETFROM:-0500
TZOFFSETTO:-0600
TZNAME:CST
DTSTART:20221106T070000
END:STANDARD
BEGIN:DAYLIGHT
TZOFFSETFROM:-0600
TZOFFSETTO:-0500
TZNAME:CDT
DTSTART:20230312T080000
END:DAYLIGHT
BEGIN:STANDARD
TZOFFSETFROM:-0500
TZOFFSETTO:-0600
TZNAME:CST
DTSTART:20231105T070000
END:STANDARD
BEGIN:DAYLIGHT
TZOFFSETFROM:-0600
TZOFFSETTO:-0500
TZNAME:CDT
DTSTART:20240310T080000
END:DAYLIGHT
BEGIN:STANDARD
TZOFFSETFROM:-0500
TZOFFSETTO:-0600
TZNAME:CST
DTSTART:20241103T070000
END:STANDARD
END:VTIMEZONE
BEGIN:VEVENT
DTSTART;TZID=America/Chicago:20230422T103000
DTEND;TZID=America/Chicago:20230422T123000
DTSTAMP:20260424T051718
CREATED:20230316T032944Z
LAST-MODIFIED:20230426T192503Z
UID:10000083-1682159400-1682166600@chicagolandmgclub.com
SUMMARY:2023 - Powell Garage Visit\, April 22nd
DESCRIPTION:Come for a visit at our garage and take a step back in time to view Jeff’s collection of vintage gas station and oil companies memorabilia. We also have a few antique bicycles on display.  \nWe are just south of North Ave. and just west of 9th Ave. Street parking available. \nWe will then all take a short drive over to Russell’s BBQ (corner of North Ave. and Thatcher) for lunch around 12-12:30 pm. They have plenty of parking if you want to drive your MG. \nHope to see you then!
URL:https://chicagolandmgclub.com/event/2023-powell-garage-visit-april-22nd/
LOCATION:Powell Garage\, 910 W. Hirsch Street\, Melrose Park\, IL\, 60160
CATEGORIES:Driving Events
ATTACH;FMTTYPE=image/png:https://chicagolandmgclub.com/wp-content/uploads/2023/03/Powell-Garage-Logo-2.png
ORGANIZER;CN="Event Organizer - Jeff & Sharon Powell":MAILTO:cycle@earthlink.net
END:VEVENT
END:VCALENDAR